BEGIN:VCALENDAR
VERSION:2.0
PRODID:-//Temple Emanuel - ECPv6.15.20//NONSGML v1.0//EN
CALSCALE:GREGORIAN
METHOD:PUBLISH
X-ORIGINAL-URL:https://templeemanuelpgh.org
X-WR-CALDESC:Events for Temple Emanuel
REFRESH-INTERVAL;VALUE=DURATION:PT1H
X-Robots-Tag:noindex
X-PUBLISHED-TTL:PT1H
BEGIN:VTIMEZONE
TZID:America/New_York
BEGIN:DAYLIGHT
TZOFFSETFROM:-0500
TZOFFSETTO:-0400
TZNAME:EDT
DTSTART:20230312T070000
END:DAYLIGHT
BEGIN:STANDARD
TZOFFSETFROM:-0400
TZOFFSETTO:-0500
TZNAME:EST
DTSTART:20231105T060000
END:STANDARD
BEGIN:DAYLIGHT
TZOFFSETFROM:-0500
TZOFFSETTO:-0400
TZNAME:EDT
DTSTART:20240310T070000
END:DAYLIGHT
BEGIN:STANDARD
TZOFFSETFROM:-0400
TZOFFSETTO:-0500
TZNAME:EST
DTSTART:20241103T060000
END:STANDARD
BEGIN:DAYLIGHT
TZOFFSETFROM:-0500
TZOFFSETTO:-0400
TZNAME:EDT
DTSTART:20250309T070000
END:DAYLIGHT
BEGIN:STANDARD
TZOFFSETFROM:-0400
TZOFFSETTO:-0500
TZNAME:EST
DTSTART:20251102T060000
END:STANDARD
END:VTIMEZONE
BEGIN:VEVENT
DTSTART;TZID=America/New_York:20241201T093000
DTEND;TZID=America/New_York:20241201T101500
DTSTAMP:20260423T121025
CREATED:20241105T160723Z
LAST-MODIFIED:20241105T160723Z
UID:10003789-1733045400-1733048100@templeemanuelpgh.org
SUMMARY:Sunday Morning Minyan
DESCRIPTION:All are welcome to join this casual\, brief\, lay-led service. Join in person in the Beit HaT’filah or online via Zoom. This is a great opportunity to become familiar with the service and with Hebrew\, to meet other members\, and to say Kaddish.
URL:https://templeemanuelpgh.org/event/sunday-morning-minyan-7/
CATEGORIES:Worship
END:VEVENT
BEGIN:VEVENT
DTSTART;TZID=America/New_York:20241201T140000
DTEND;TZID=America/New_York:20241201T150000
DTSTAMP:20260423T121025
CREATED:20241006T233706Z
LAST-MODIFIED:20241109T135734Z
UID:10003746-1733061600-1733065200@templeemanuelpgh.org
SUMMARY:Azure Pittsburgh Family Concerts: Fall Series
DESCRIPTION:Join us for “Festive Families\,” an event to get you in the holiday mood! Enjoy an evening of heartwarming holiday music\, perfect for the whole family. Let’s celebrate the season together with joyful tunes and festive cheer\, featuring Chanukah and holiday favorites with a klezmer twist! RSVP here. \nAzure Pittsburgh’s mission is “to foster community for people with autism by presenting interactive concerts in a welcoming environment.” \nAzure Pittsburgh recognizes that autism and related challenges can present barriers to attendance and engagement in a formal concert setting. We program the highest quality artists while taking care to consider and remove as many barriers as possible to create a sensory- friendly environment where all people are accepted\, embraced\, and celebrated. \nAt an Azure concert\, if you want to sing\, dance\, vocalize\, or clap\, you’re welcome to do so\, and if you need a break\, there’s always a designated quiet space for you. Azure concerts are a place for connecting with each other through music.
URL:https://templeemanuelpgh.org/event/azure-pittsburgh-family-concerts-fall-series/
ATTACH;FMTTYPE=image/jpeg:https://templeemanuelpgh.org/wp-content/uploads/2024/11/e66f8446-0d3e-bfac-2847-2f36d4362336.jpg
END:VEVENT
BEGIN:VEVENT
DTSTART;TZID=America/New_York:20241203T100000
DTEND;TZID=America/New_York:20241203T110000
DTSTAMP:20260423T121025
CREATED:20241120T024948Z
LAST-MODIFIED:20241120T024948Z
UID:10003817-1733220000-1733223600@templeemanuelpgh.org
SUMMARY:Community Conversation:  Development & Fundraising with Temple Staff
DESCRIPTION:Your chance to ask questions\, give voice to your thoughts and concerns\, and ensure we are working together to embrace our shared vision of Living\, Learning\, and Leading Judaism. \nUpcoming Community Conversations:\nJanuary 10\, 8:15pm at Temple: Prayer and Services with Temple’s Clergy\nFebruary 25\, 6:00pm at Temple: Schmoozing & Sharing with the Board of Trustees
URL:https://templeemanuelpgh.org/event/community-conversation-development-fundraising-with-temple-staff/
END:VEVENT
BEGIN:VEVENT
DTSTART;TZID=America/New_York:20241205T193000
DTEND;TZID=America/New_York:20241205T210000
DTSTAMP:20260423T121025
CREATED:20241006T234215Z
LAST-MODIFIED:20241006T234215Z
UID:10003747-1733427000-1733432400@templeemanuelpgh.org
SUMMARY:MOTE+ Brews Night
DESCRIPTION:Join MOTE+ for locally brewed beer at Chimera Brewing in Castle Shannon. RSVP to Sarah.
URL:https://templeemanuelpgh.org/event/mote-brews-night-3/
CATEGORIES:MOTE (Men+ of Temple Emanuel)
END:VEVENT
BEGIN:VEVENT
DTSTART;TZID=America/New_York:20241206T130000
DTEND;TZID=America/New_York:20241206T134500
DTSTAMP:20260423T121025
CREATED:20241105T165410Z
LAST-MODIFIED:20241105T165410Z
UID:10003800-1733490000-1733492700@templeemanuelpgh.org
SUMMARY:Friday Afternoon Torah Study
DESCRIPTION:Join Rabbi Meyer for a 45-minute discussion of Proverbs\, the wisdom literature of Jewish tradition\, on Zoom by clicking here.
URL:https://templeemanuelpgh.org/event/friday-afternoon-torah-study-11/
END:VEVENT
BEGIN:VEVENT
DTSTART;TZID=America/New_York:20241206T190000
DTEND;TZID=America/New_York:20241206T200000
DTSTAMP:20260423T121025
CREATED:20241105T152329Z
LAST-MODIFIED:20241105T152329Z
UID:10003773-1733511600-1733515200@templeemanuelpgh.org
SUMMARY:Shabbat Evening Service
DESCRIPTION:Join us for Shabbat evening service with Rabbi Aaron Meyer and Cantor Kalix Jacobson in the Beit HaT’filah. The service will also be livestreamed on our Facebook and YouTube pages. Join us for a nosh and conversation at oneg following the service.
URL:https://templeemanuelpgh.org/event/shabbat-evening-service-6/
CATEGORIES:Worship
END:VEVENT
BEGIN:VEVENT
DTSTART;TZID=America/New_York:20241207T083000
DTEND;TZID=America/New_York:20241207T090000
DTSTAMP:20260423T121025
CREATED:20241105T154200Z
LAST-MODIFIED:20241105T154200Z
UID:10003779-1733560200-1733562000@templeemanuelpgh.org
SUMMARY:Virtual Shabbat Morning Service
DESCRIPTION:Our Shabbat morning videos will be released on Facebook and YouTube. One will include the traditional first Aliyah from our Sefer Torah in Hebrew and translation\, and a brief exposition of how the themes and lessons of the parasha (Torah portion) relate to our modern lives.
URL:https://templeemanuelpgh.org/event/virtual-shabbat-morning-service-6/
CATEGORIES:Worship
END:VEVENT
BEGIN:VEVENT
DTSTART;TZID=America/New_York:20241207T090000
DTEND;TZID=America/New_York:20241207T100000
DTSTAMP:20260423T121025
CREATED:20241105T155615Z
LAST-MODIFIED:20241105T155615Z
UID:10003784-1733562000-1733565600@templeemanuelpgh.org
SUMMARY:Torah Study
DESCRIPTION:Saturday morning Torah Study with Rabbi Aaron Meyer will be offered in person at Temple and via Zoom video-conference. Zoom access can be found by clicking here.
URL:https://templeemanuelpgh.org/event/torah-study-10/
END:VEVENT
BEGIN:VEVENT
DTSTART;TZID=America/New_York:20241207T163000
DTEND;TZID=America/New_York:20241207T180000
DTSTAMP:20260423T121025
CREATED:20240910T010224Z
LAST-MODIFIED:20240910T010224Z
UID:10003721-1733589000-1733594400@templeemanuelpgh.org
SUMMARY:Havdalah Hangout
DESCRIPTION:RSVP to Steph McFerron
URL:https://templeemanuelpgh.org/event/havdalah-hangout/2024-12-07/
LOCATION:Library
END:VEVENT
BEGIN:VEVENT
DTSTART;TZID=America/New_York:20241207T200000
DTEND;TZID=America/New_York:20241207T201500
DTSTAMP:20260423T121025
CREATED:20241112T012547Z
LAST-MODIFIED:20241112T012547Z
UID:10003812-1733601600-1733602500@templeemanuelpgh.org
SUMMARY:Havdalah
DESCRIPTION:Join us virtually for Havdalah on Temple’s Facebook page.
URL:https://templeemanuelpgh.org/event/havdalah-7/
END:VEVENT
BEGIN:VEVENT
DTSTART;TZID=America/New_York:20241208T093000
DTEND;TZID=America/New_York:20241208T101500
DTSTAMP:20260423T121025
CREATED:20241105T160820Z
LAST-MODIFIED:20241105T160820Z
UID:10003790-1733650200-1733652900@templeemanuelpgh.org
SUMMARY:Sunday Morning Minyan
DESCRIPTION:All are welcome to join this casual\, brief\, lay-led service. Join in person in the Beit HaT’filah or online via Zoom. This is a great opportunity to become familiar with the service and with Hebrew\, to meet other members\, and to say Kaddish.
URL:https://templeemanuelpgh.org/event/sunday-morning-minyan-8/
CATEGORIES:Worship
END:VEVENT
BEGIN:VEVENT
DTSTART;TZID=America/New_York:20241213T130000
DTEND;TZID=America/New_York:20241213T134500
DTSTAMP:20260423T121025
CREATED:20241105T170220Z
LAST-MODIFIED:20241105T170220Z
UID:10003803-1734094800-1734097500@templeemanuelpgh.org
SUMMARY:Friday Afternoon Torah Study
DESCRIPTION:Join Rabbi Meyer for a 45-minute discussion of Proverbs\, the wisdom literature of Jewish tradition\, on Zoom by clicking here.
URL:https://templeemanuelpgh.org/event/friday-afternoon-torah-study-13/
END:VEVENT
BEGIN:VEVENT
DTSTART;TZID=America/New_York:20241213T173000
DTEND;TZID=America/New_York:20241213T190000
DTSTAMP:20260423T121025
CREATED:20240910T004547Z
LAST-MODIFIED:20240910T005044Z
UID:10003719-1734111000-1734116400@templeemanuelpgh.org
SUMMARY:KIDdish Club Family Shabbat
DESCRIPTION:We will join at Temple Emanuel for a kid-friendly dinner and craft from 5:30 to 6:00\, followed by a fast-paced musical Shabbat for the whole family at 6:00 PM. Stay for cookies and additional time for play after the service! While this program is designed with those ages 0-6 in mind\, older siblings\, parents\, and grandparents are welcome. Rebecca Closson\, Rabbi Emily\, Sarah Mangan\, Rabbi Aaron\, Cantor Kalix\, and all of your friends at Temple are excited to welcome you on Friday! \nRSVP to Sarah Mangan
URL:https://templeemanuelpgh.org/event/kiddish-club-family-shabbat/2024-12-13/
CATEGORIES:Young Family Programs
END:VEVENT
BEGIN:VEVENT
DTSTART;TZID=America/New_York:20241213T190000
DTEND;TZID=America/New_York:20241213T200000
DTSTAMP:20260423T121025
CREATED:20241105T152522Z
LAST-MODIFIED:20241105T152522Z
UID:10003774-1734116400-1734120000@templeemanuelpgh.org
SUMMARY:Shabbat Evening Services
DESCRIPTION:Join us for Shabbat evening service with Rabbi Aaron Meyer and Cantor Kalix Jacobson in the Beit HaT’filah. The service will also be livestreamed on our Facebook and YouTube pages. Join us for a nosh and conversation at oneg following the service.
URL:https://templeemanuelpgh.org/event/shabbat-evening-services-9/
CATEGORIES:Worship
END:VEVENT
BEGIN:VEVENT
DTSTART;TZID=America/New_York:20241214T083000
DTEND;TZID=America/New_York:20241214T090000
DTSTAMP:20260423T121025
CREATED:20241105T154449Z
LAST-MODIFIED:20241105T154456Z
UID:10003780-1734165000-1734166800@templeemanuelpgh.org
SUMMARY:Virtual Shabbat Morning Service
DESCRIPTION:Our Shabbat morning videos will be released on Facebook and YouTube. One will include the traditional first Aliyah from our Sefer Torah in Hebrew and translation\, and a brief exposition of how the themes and lessons of the parasha (Torah portion) relate to our modern lives.
URL:https://templeemanuelpgh.org/event/virtual-shabbat-morning-services/
CATEGORIES:Worship
END:VEVENT
BEGIN:VEVENT
DTSTART;TZID=America/New_York:20241214T090000
DTEND;TZID=America/New_York:20241214T100000
DTSTAMP:20260423T121025
CREATED:20241105T155844Z
LAST-MODIFIED:20241105T155844Z
UID:10003785-1734166800-1734170400@templeemanuelpgh.org
SUMMARY:Torah Study
DESCRIPTION:Saturday morning Torah Study with Rabbi Aaron Meyer will be offered in person at Temple and via Zoom video-conference. Zoom access can be found by clicking here.
URL:https://templeemanuelpgh.org/event/torah-study-11/
END:VEVENT
BEGIN:VEVENT
DTSTART;TZID=America/New_York:20241214T200000
DTEND;TZID=America/New_York:20241214T201500
DTSTAMP:20260423T121025
CREATED:20241112T012638Z
LAST-MODIFIED:20241112T012638Z
UID:10003813-1734206400-1734207300@templeemanuelpgh.org
SUMMARY:Havdalah
DESCRIPTION:Join us virtually for Havdalah on Temple’s Facebook page.
URL:https://templeemanuelpgh.org/event/havdalah-8/
END:VEVENT
BEGIN:VEVENT
DTSTART;TZID=America/New_York:20241215T093000
DTEND;TZID=America/New_York:20241215T101500
DTSTAMP:20260423T121025
CREATED:20241105T160935Z
LAST-MODIFIED:20241105T160935Z
UID:10003791-1734255000-1734257700@templeemanuelpgh.org
SUMMARY:Sunday Morning Minyan
DESCRIPTION:All are welcome to join this casual\, brief\, lay-led service. Join in person in the Beit HaT’filah or online via Zoom. This is a great opportunity to become familiar with the service and with Hebrew\, to meet other members\, and to say Kaddish.
URL:https://templeemanuelpgh.org/event/sunday-morning-minyan-9/
CATEGORIES:Worship
END:VEVENT
BEGIN:VEVENT
DTSTART;TZID=America/New_York:20241215T130000
DTEND;TZID=America/New_York:20241215T160000
DTSTAMP:20260423T121025
CREATED:20241210T003557Z
LAST-MODIFIED:20241210T003712Z
UID:10005349-1734267600-1734278400@templeemanuelpgh.org
SUMMARY:Jewish Women and Religious Freedom in Pittsburgh: What Comes Next?
DESCRIPTION:This important half-day summit is part of the 2024 “Jewish Women and Religious Freedom in Pittsburgh” project grant sponsored by the Jewish Women’s Foundation of Greater Pittsburgh\, underwritten by JWF Trustee Nancy Weissman\, in memory of her beloved mother-in-law\, JWF Trustee Jacquelin Wechsler. \nRegister and learn more here.
URL:https://templeemanuelpgh.org/event/jewish-women-and-religious-freedom-in-pittsburgh-what-comes-next/
LOCATION:Rodef Shalom Congregation\, 4905 Fifth Ave.\, Pittsburgh\, PA\, 15213\, United States
CATEGORIES:Community Event
GEO:40.4479037;-79.9433675
X-APPLE-STRUCTURED-LOCATION;VALUE=URI;X-ADDRESS=Rodef Shalom Congregation 4905 Fifth Ave. Pittsburgh PA 15213 United States;X-APPLE-RADIUS=500;X-TITLE=4905 Fifth Ave.:geo:-79.9433675,40.4479037
END:VEVENT
BEGIN:VEVENT
DTSTART;TZID=America/New_York:20241215T193000
DTEND;TZID=America/New_York:20241215T210000
DTSTAMP:20260423T121025
CREATED:20241006T234425Z
LAST-MODIFIED:20241202T152813Z
UID:10003748-1734291000-1734296400@templeemanuelpgh.org
SUMMARY:WTE+ Art\, Wine\, and Cheese
DESCRIPTION:Join Rabbi Emily for WTE+’s seasonal Art\, Wine\, and Cheese night. We will make mosaic charcuterie boards for Chanukah! \n\nOops! We could not locate your form.
URL:https://templeemanuelpgh.org/event/mosaic/
CATEGORIES:WTE (Women+ of Temple Emanuel)
ATTACH;FMTTYPE=image/png:https://templeemanuelpgh.org/wp-content/uploads/2024/10/Art-Wine-and-Cheese-Night-3.png
END:VEVENT
BEGIN:VEVENT
DTSTART;TZID=America/New_York:20241220T100000
DTEND;TZID=America/New_York:20241220T110000
DTSTAMP:20260423T121025
CREATED:20241210T002023Z
LAST-MODIFIED:20241210T002023Z
UID:10005347-1734688800-1734692400@templeemanuelpgh.org
SUMMARY:TERMS Meeting
DESCRIPTION:Special Presentation on Strokes \nFor this December meeting\, Lee Feldman has invited Beth DeRunk BSN/RN\, the stroke coordinator at St Clair hospital\, who will provide an informative discussion on strokes. She is the one who  coordinates the hospital medical team care that the arriving stroke victim receives. She will talk about\, among other topics\, what you need to know to recognize a stroke\, the need to get medical care quickly\, and how it will be treated at the hospital. Please RSVP to Alan Schorr.
URL:https://templeemanuelpgh.org/event/terms-meeting-3/
END:VEVENT
BEGIN:VEVENT
DTSTART;TZID=America/New_York:20241220T130000
DTEND;TZID=America/New_York:20241220T134500
DTSTAMP:20260423T121025
CREATED:20241105T170032Z
LAST-MODIFIED:20241105T170032Z
UID:10003802-1734699600-1734702300@templeemanuelpgh.org
SUMMARY:Friday Afternoon Torah Center
DESCRIPTION:Join Rabbi Meyer for a 45-minute discussion of Proverbs\, the wisdom literature of Jewish tradition\, on Zoom by clicking here.
URL:https://templeemanuelpgh.org/event/friday-afternoon-torah-center/
END:VEVENT
BEGIN:VEVENT
DTSTART;TZID=America/New_York:20241220T190000
DTEND;TZID=America/New_York:20241220T200000
DTSTAMP:20260423T121025
CREATED:20241105T152618Z
LAST-MODIFIED:20241105T152618Z
UID:10003775-1734721200-1734724800@templeemanuelpgh.org
SUMMARY:Shabbat Evening Service
DESCRIPTION:Join us for Shabbat evening service with Rabbi Aaron Meyer and Cantor Kalix Jacobson in the Beit HaT’filah. The service will also be livestreamed on our Facebook and YouTube pages. Join us for a nosh and conversation at oneg following the service.
URL:https://templeemanuelpgh.org/event/shabbat-evening-service-7/
CATEGORIES:Worship
END:VEVENT
BEGIN:VEVENT
DTSTART;TZID=America/New_York:20241221T083000
DTEND;TZID=America/New_York:20241221T090000
DTSTAMP:20260423T121025
CREATED:20241105T154937Z
LAST-MODIFIED:20241105T154937Z
UID:10003781-1734769800-1734771600@templeemanuelpgh.org
SUMMARY:Virtual Shabbat Morning Service
DESCRIPTION:Our Shabbat morning videos will be released on Facebook and YouTube. One will include the traditional first Aliyah from our Sefer Torah in Hebrew and translation\, and a brief exposition of how the themes and lessons of the parasha (Torah portion) relate to our modern lives.
URL:https://templeemanuelpgh.org/event/virtual-shabbat-morning-service-7/
CATEGORIES:Worship
END:VEVENT
BEGIN:VEVENT
DTSTART;TZID=America/New_York:20241221T090000
DTEND;TZID=America/New_York:20241221T100000
DTSTAMP:20260423T121025
CREATED:20241105T160044Z
LAST-MODIFIED:20241105T160044Z
UID:10003786-1734771600-1734775200@templeemanuelpgh.org
SUMMARY:Torah Study
DESCRIPTION:Saturday morning Torah Study with Rabbi Aaron Meyer will be offered in person at Temple and via Zoom video-conference. Zoom access can be found by clicking here.
URL:https://templeemanuelpgh.org/event/torah-study-12/
END:VEVENT
BEGIN:VEVENT
DTSTART;TZID=America/New_York:20241221T110000
DTEND;TZID=America/New_York:20241221T120000
DTSTAMP:20260423T121025
CREATED:20241210T002513Z
LAST-MODIFIED:20241210T002744Z
UID:10005348-1734778800-1734782400@templeemanuelpgh.org
SUMMARY:Shabbat of Service at SHIM
DESCRIPTION:Join us to organize SHIM’s clothing closet to find donations for the Humane Society. All ages welcome. Donations of blankets and towels for dogs and/or pet food can be dropped off at Temple to donate to the Humane Society. RSVP to Cantor Kalix for this mitzvah opportunity!
URL:https://templeemanuelpgh.org/event/shabbat-of-service-at-shim/
LOCATION:SHIM
CATEGORIES:Featured,Social Action
END:VEVENT
BEGIN:VEVENT
DTSTART;TZID=America/New_York:20241221T200000
DTEND;TZID=America/New_York:20241221T201500
DTSTAMP:20260423T121025
CREATED:20241112T012742Z
LAST-MODIFIED:20241112T012742Z
UID:10003814-1734811200-1734812100@templeemanuelpgh.org
SUMMARY:Havdalah
DESCRIPTION:Join us virtually for Havdalah on Temple’s Facebook page.
URL:https://templeemanuelpgh.org/event/havdalah-9/
END:VEVENT
BEGIN:VEVENT
DTSTART;TZID=America/New_York:20241222T093000
DTEND;TZID=America/New_York:20241222T101500
DTSTAMP:20260423T121025
CREATED:20241105T161155Z
LAST-MODIFIED:20241105T161155Z
UID:10003793-1734859800-1734862500@templeemanuelpgh.org
SUMMARY:Sunday Morning Minyan
DESCRIPTION:All are welcome to join this casual\, brief\, lay-led service. Join in person in the Beit HaT’filah or online via Zoom. This is a great opportunity to become familiar with the service and with Hebrew\, to meet other members\, and to say Kaddish.
URL:https://templeemanuelpgh.org/event/sunday-morning-minyan-11/
CATEGORIES:Worship
END:VEVENT
BEGIN:VEVENT
DTSTART;TZID=America/New_York:20241222T140000
DTEND;TZID=America/New_York:20241222T160000
DTSTAMP:20260423T121025
CREATED:20241006T234735Z
LAST-MODIFIED:20241006T234919Z
UID:10003749-1734876000-1734883200@templeemanuelpgh.org
SUMMARY:Play Mahj!
DESCRIPTION:Join in for table games of Mahjong. RSVP to Sarah.
URL:https://templeemanuelpgh.org/event/play-mahj-6/
END:VEVENT
BEGIN:VEVENT
DTSTART;TZID=America/New_York:20241227T130000
DTEND;TZID=America/New_York:20241227T134500
DTSTAMP:20260423T121025
CREATED:20241105T170446Z
LAST-MODIFIED:20241105T170446Z
UID:10003804-1735304400-1735307100@templeemanuelpgh.org
SUMMARY:Friday Afternoon Torah Study
DESCRIPTION:Join Rabbi Meyer for a 45-minute discussion of Proverbs\, the wisdom literature of Jewish tradition\, on Zoom by clicking here.
URL:https://templeemanuelpgh.org/event/friday-afternoon-torah-study-14/
END:VEVENT
END:VCALENDAR