BEGIN:VCALENDAR
VERSION:2.0
PRODID:-//Temple Emanuel - ECPv6.15.20//NONSGML v1.0//EN
CALSCALE:GREGORIAN
METHOD:PUBLISH
X-ORIGINAL-URL:https://templeemanuelpgh.org
X-WR-CALDESC:Events for Temple Emanuel
REFRESH-INTERVAL;VALUE=DURATION:PT1H
X-Robots-Tag:noindex
X-PUBLISHED-TTL:PT1H
BEGIN:VTIMEZONE
TZID:America/New_York
BEGIN:DAYLIGHT
TZOFFSETFROM:-0500
TZOFFSETTO:-0400
TZNAME:EDT
DTSTART:20190310T070000
END:DAYLIGHT
BEGIN:STANDARD
TZOFFSETFROM:-0400
TZOFFSETTO:-0500
TZNAME:EST
DTSTART:20191103T060000
END:STANDARD
BEGIN:DAYLIGHT
TZOFFSETFROM:-0500
TZOFFSETTO:-0400
TZNAME:EDT
DTSTART:20200308T070000
END:DAYLIGHT
BEGIN:STANDARD
TZOFFSETFROM:-0400
TZOFFSETTO:-0500
TZNAME:EST
DTSTART:20201101T060000
END:STANDARD
BEGIN:DAYLIGHT
TZOFFSETFROM:-0500
TZOFFSETTO:-0400
TZNAME:EDT
DTSTART:20210314T070000
END:DAYLIGHT
BEGIN:STANDARD
TZOFFSETFROM:-0400
TZOFFSETTO:-0500
TZNAME:EST
DTSTART:20211107T060000
END:STANDARD
END:VTIMEZONE
BEGIN:VEVENT
DTSTART;TZID=America/New_York:20200922T200000
DTEND;TZID=America/New_York:20200922T200000
DTSTAMP:20260424T120459
CREATED:20200922T163936Z
LAST-MODIFIED:20210630T230720Z
UID:10002139-1600804800-1600804800@templeemanuelpgh.org
SUMMARY:Conversations with the Rabbis - High Holy Day Sermons
DESCRIPTION:Looking for more High Holy Days inspiration? We invite you to join Rabbis Mahler\, Locketz and Meyer for discussions about the themes for their High Holy Day sermons. \nTuesday\, 9/22\n8:00pm Rabbi Mahler invites you to a conversation on the themes of his High Holy Day sermon Plagues & Pandemics. The sermon can be viewed here and the link to join him for the Zoom discussion can be found here (please note that this is an updated link). \nWednesday\, 9/23\n8:00pm Rabbi Locketz invites you to a conversation on the themes of her High Holy Day sermon If I am Not For Myself\, Who Will Be For Me. The sermon can be viewed here and the link to join her for the Zoom discussion can be found here. \nThursday\, 9/24\n8:00pm Rabbi Meyer invites you to a conversation on the themes of his High Holy Day sermons: \n\nB’shem Omro\nKnow Better\, Do Better\nPause\, Fast-Forward\, Play\n\nThe collection can be viewed here and a link to the Zoom discussion with him can be found here. \n 
URL:https://templeemanuelpgh.org/event/conversations-rabbis-high-holy-day-sermons/2020-09-22/
END:VEVENT
BEGIN:VEVENT
DTSTART;TZID=America/New_York:20200923T090000
DTEND;TZID=America/New_York:20200923T090000
DTSTAMP:20260424T120459
CREATED:20200904T035301Z
LAST-MODIFIED:20210701T025438Z
UID:10001641-1600851600-1600851600@templeemanuelpgh.org
SUMMARY:Daily Prayer Released Along with Shofar Blowing
DESCRIPTION:Click here for links.
URL:https://templeemanuelpgh.org/event/daily-prayer-released-along-shofar-blowing/2020-09-23/
CATEGORIES:Holidays
END:VEVENT
BEGIN:VEVENT
DTSTART;TZID=America/New_York:20200923T190000
DTEND;TZID=America/New_York:20200923T190000
DTSTAMP:20260424T120459
CREATED:20200904T030229Z
LAST-MODIFIED:20200904T030737Z
UID:10002127-1600887600-1600887600@templeemanuelpgh.org
SUMMARY:Neighborhood Shofar Blowing
DESCRIPTION:Click here for details and locations. \n 
URL:https://templeemanuelpgh.org/event/neighborhood-shofar-blowing/2020-09-23/
CATEGORIES:Holidays
END:VEVENT
BEGIN:VEVENT
DTSTART;TZID=America/New_York:20200923T200000
DTEND;TZID=America/New_York:20200923T200000
DTSTAMP:20260424T120459
CREATED:20200922T163936Z
LAST-MODIFIED:20210630T230720Z
UID:10002140-1600891200-1600891200@templeemanuelpgh.org
SUMMARY:Conversations with the Rabbis - High Holy Day Sermons
DESCRIPTION:Looking for more High Holy Days inspiration? We invite you to join Rabbis Mahler\, Locketz and Meyer for discussions about the themes for their High Holy Day sermons. \nTuesday\, 9/22\n8:00pm Rabbi Mahler invites you to a conversation on the themes of his High Holy Day sermon Plagues & Pandemics. The sermon can be viewed here and the link to join him for the Zoom discussion can be found here (please note that this is an updated link). \nWednesday\, 9/23\n8:00pm Rabbi Locketz invites you to a conversation on the themes of her High Holy Day sermon If I am Not For Myself\, Who Will Be For Me. The sermon can be viewed here and the link to join her for the Zoom discussion can be found here. \nThursday\, 9/24\n8:00pm Rabbi Meyer invites you to a conversation on the themes of his High Holy Day sermons: \n\nB’shem Omro\nKnow Better\, Do Better\nPause\, Fast-Forward\, Play\n\nThe collection can be viewed here and a link to the Zoom discussion with him can be found here. \n 
URL:https://templeemanuelpgh.org/event/conversations-rabbis-high-holy-day-sermons/2020-09-23/
END:VEVENT
BEGIN:VEVENT
DTSTART;TZID=America/New_York:20200924T090000
DTEND;TZID=America/New_York:20200924T090000
DTSTAMP:20260424T120459
CREATED:20200904T035301Z
LAST-MODIFIED:20210701T025438Z
UID:10001642-1600938000-1600938000@templeemanuelpgh.org
SUMMARY:Daily Prayer Released Along with Shofar Blowing
DESCRIPTION:Click here for links.
URL:https://templeemanuelpgh.org/event/daily-prayer-released-along-shofar-blowing/2020-09-24/
CATEGORIES:Holidays
END:VEVENT
BEGIN:VEVENT
DTSTART;TZID=America/New_York:20200924T190000
DTEND;TZID=America/New_York:20200924T190000
DTSTAMP:20260424T120459
CREATED:20200904T030229Z
LAST-MODIFIED:20200904T030737Z
UID:10002128-1600974000-1600974000@templeemanuelpgh.org
SUMMARY:Neighborhood Shofar Blowing
DESCRIPTION:Click here for details and locations. \n 
URL:https://templeemanuelpgh.org/event/neighborhood-shofar-blowing/2020-09-24/
CATEGORIES:Holidays
END:VEVENT
BEGIN:VEVENT
DTSTART;TZID=America/New_York:20200924T200000
DTEND;TZID=America/New_York:20200924T200000
DTSTAMP:20260424T120459
CREATED:20200922T163936Z
LAST-MODIFIED:20210630T230639Z
UID:10002142-1600977600-1600977600@templeemanuelpgh.org
SUMMARY:Conversations with the Rabbis - High Holy Day Sermons
DESCRIPTION:Looking for more High Holy Days inspiration? We invite you to join Rabbis Mahler\, Locketz and Meyer for discussions about the themes for their High Holy Day sermons. \nTuesday\, 9/22\n8:00pm Rabbi Mahler invites you to a conversation on the themes of his High Holy Day sermon Plagues & Pandemics. The sermon can be viewed here and the link to join him for the Zoom discussion can be found here (please note that this is an updated link). \nWednesday\, 9/23\n8:00pm Rabbi Locketz invites you to a conversation on the themes of her High Holy Day sermon If I am Not For Myself\, Who Will Be For Me. The sermon can be viewed here and the link to join her for the Zoom discussion can be found here. \nThursday\, 9/24\n8:00pm Rabbi Meyer invites you to a conversation on the themes of his High Holy Day sermons: \n\nB’shem Omro\nKnow Better\, Do Better\nPause\, Fast-Forward\, Play\n\nThe collection can be viewed here and a link to the Zoom discussion with him can be found here. \n 
URL:https://templeemanuelpgh.org/event/conversations-rabbis-high-holy-day-sermons-2020-09-24/
END:VEVENT
BEGIN:VEVENT
DTSTART;TZID=America/New_York:20200925T190000
DTEND;TZID=America/New_York:20200925T200000
DTSTAMP:20260424T120459
CREATED:20200701T224715Z
LAST-MODIFIED:20210701T151515Z
UID:10001501-1601060400-1601064000@templeemanuelpgh.org
SUMMARY:Shabbat Evening Service
DESCRIPTION:
URL:https://templeemanuelpgh.org/event/virtual-friday-night-service/2020-09-25/
END:VEVENT
BEGIN:VEVENT
DTSTART;TZID=America/New_York:20200926T083000
DTEND;TZID=America/New_York:20200926T090000
DTSTAMP:20260424T120459
CREATED:20200701T230946Z
LAST-MODIFIED:20210701T151406Z
UID:10001926-1601109000-1601110800@templeemanuelpgh.org
SUMMARY:Shabbat Morning Service
DESCRIPTION:
URL:https://templeemanuelpgh.org/event/shabbat-morning-services-2020-08-01/2020-09-26/
END:VEVENT
BEGIN:VEVENT
DTSTART;TZID=America/New_York:20200926T090000
DTEND;TZID=America/New_York:20200926T101500
DTSTAMP:20260424T120459
CREATED:20200701T235038Z
LAST-MODIFIED:20200904T041437Z
UID:10001976-1601110800-1601115300@templeemanuelpgh.org
SUMMARY:Torah Study
DESCRIPTION:
URL:https://templeemanuelpgh.org/event/virtual-torah-study-2020-08-22/2020-09-26/
CATEGORIES:Adult Education
END:VEVENT
BEGIN:VEVENT
DTSTART;TZID=America/New_York:20200927T093000
DTEND;TZID=America/New_York:20200927T101500
DTSTAMP:20260424T120459
CREATED:20200701T235828Z
LAST-MODIFIED:20210701T151648Z
UID:10002028-1601199000-1601201700@templeemanuelpgh.org
SUMMARY:Minyan
DESCRIPTION:
URL:https://templeemanuelpgh.org/event/virtual-minyan-2020-08-30/2020-09-27/
END:VEVENT
BEGIN:VEVENT
DTSTART;TZID=America/New_York:20200927T183000
DTEND;TZID=America/New_York:20200927T183000
DTSTAMP:20260424T120459
CREATED:20200904T031640Z
LAST-MODIFIED:20210701T025331Z
UID:10001596-1601231400-1601231400@templeemanuelpgh.org
SUMMARY:Family Service
DESCRIPTION:Click here for links to our Facebook and Youtube channels.
URL:https://templeemanuelpgh.org/event/family-service/
CATEGORIES:Holidays,Young Family Programs
END:VEVENT
BEGIN:VEVENT
DTSTART;TZID=America/New_York:20200927T200000
DTEND;TZID=America/New_York:20200927T200000
DTSTAMP:20260424T120459
CREATED:20200904T032249Z
LAST-MODIFIED:20210701T025418Z
UID:10001609-1601236800-1601236800@templeemanuelpgh.org
SUMMARY:Erev Yom Kippur / Kol Nidre
DESCRIPTION:Click here for links to our Facebook and Youtube channels.
URL:https://templeemanuelpgh.org/event/erev-yom-kippur-kol-nidre/
CATEGORIES:Holidays
END:VEVENT
BEGIN:VEVENT
DTSTART;TZID=America/New_York:20200928T090000
DTEND;TZID=America/New_York:20200928T090000
DTSTAMP:20260424T120459
CREATED:20200904T032450Z
LAST-MODIFIED:20210701T025318Z
UID:10001610-1601283600-1601283600@templeemanuelpgh.org
SUMMARY:Family Service
DESCRIPTION:Click here for links to our Facebook and Youtube channels.
URL:https://templeemanuelpgh.org/event/family-service-2/
CATEGORIES:Holidays,Young Family Programs
END:VEVENT
BEGIN:VEVENT
DTSTART;TZID=America/New_York:20200928T100000
DTEND;TZID=America/New_York:20200928T100000
DTSTAMP:20260424T120459
CREATED:20200904T032907Z
LAST-MODIFIED:20210701T025354Z
UID:10001612-1601287200-1601287200@templeemanuelpgh.org
SUMMARY:Yom Kippur Morning Service
DESCRIPTION:Click here for links.
URL:https://templeemanuelpgh.org/event/yom-kippur-morning-service/
CATEGORIES:Holidays
END:VEVENT
BEGIN:VEVENT
DTSTART;TZID=America/New_York:20200928T130000
DTEND;TZID=America/New_York:20200928T130000
DTSTAMP:20260424T120459
CREATED:20200904T045719Z
LAST-MODIFIED:20210630T230610Z
UID:10002137-1601298000-1601298000@templeemanuelpgh.org
SUMMARY:Panel Discussion: The Future of the Jewish Community
DESCRIPTION:Panel discussion with Rabbi Meyer\, Rabbi Locketz and Michelle Markowitz. \nClick here for the Zoom link.
URL:https://templeemanuelpgh.org/event/panel-discussion-future-jewish-community/
END:VEVENT
BEGIN:VEVENT
DTSTART;TZID=America/New_York:20200928T150000
DTEND;TZID=America/New_York:20200928T170000
DTSTAMP:20260424T120459
CREATED:20200904T033555Z
LAST-MODIFIED:20210701T152154Z
UID:10001614-1601305200-1601312400@templeemanuelpgh.org
SUMMARY:Yom Kippur Afternoon Service
DESCRIPTION:Click here for links.
URL:https://templeemanuelpgh.org/event/yom-kippur-afternoon-service/
END:VEVENT
BEGIN:VEVENT
DTSTART;TZID=America/New_York:20200928T160000
DTEND;TZID=America/New_York:20200928T160000
DTSTAMP:20260424T120459
CREATED:20200904T033836Z
LAST-MODIFIED:20210701T152232Z
UID:10001616-1601308800-1601308800@templeemanuelpgh.org
SUMMARY:Yizkor Service
DESCRIPTION:Click here for links.
URL:https://templeemanuelpgh.org/event/yizkor-service-2/
END:VEVENT
BEGIN:VEVENT
DTSTART;TZID=America/New_York:20200928T170000
DTEND;TZID=America/New_York:20200928T170000
DTSTAMP:20260424T120459
CREATED:20200904T034243Z
LAST-MODIFIED:20210701T152312Z
UID:10001618-1601312400-1601312400@templeemanuelpgh.org
SUMMARY:Neilah Service and Havdalah
DESCRIPTION:Click here for links.
URL:https://templeemanuelpgh.org/event/neilah-service-havdalah/
END:VEVENT
BEGIN:VEVENT
DTSTART;TZID=America/New_York:20201002T190000
DTEND;TZID=America/New_York:20201002T200000
DTSTAMP:20260424T120459
CREATED:20200701T224715Z
LAST-MODIFIED:20210701T151515Z
UID:10001502-1601665200-1601668800@templeemanuelpgh.org
SUMMARY:Shabbat Evening Service
DESCRIPTION:
URL:https://templeemanuelpgh.org/event/virtual-friday-night-service/2020-10-02/
END:VEVENT
BEGIN:VEVENT
DTSTART;TZID=America/New_York:20201003T083000
DTEND;TZID=America/New_York:20201003T090000
DTSTAMP:20260424T120459
CREATED:20200701T230946Z
LAST-MODIFIED:20210701T151406Z
UID:10001927-1601713800-1601715600@templeemanuelpgh.org
SUMMARY:Shabbat Morning Service
DESCRIPTION:
URL:https://templeemanuelpgh.org/event/shabbat-morning-services-2020-08-01/2020-10-03/
END:VEVENT
BEGIN:VEVENT
DTSTART;TZID=America/New_York:20201003T090000
DTEND;TZID=America/New_York:20201003T101500
DTSTAMP:20260424T120459
CREATED:20200701T235038Z
LAST-MODIFIED:20200904T041437Z
UID:10001977-1601715600-1601720100@templeemanuelpgh.org
SUMMARY:Torah Study
DESCRIPTION:
URL:https://templeemanuelpgh.org/event/virtual-torah-study-2020-08-22/2020-10-03/
CATEGORIES:Adult Education
END:VEVENT
BEGIN:VEVENT
DTSTART;TZID=America/New_York:20201004T093000
DTEND;TZID=America/New_York:20201004T101500
DTSTAMP:20260424T120459
CREATED:20200701T235828Z
LAST-MODIFIED:20210701T151648Z
UID:10002029-1601803800-1601806500@templeemanuelpgh.org
SUMMARY:Minyan
DESCRIPTION:
URL:https://templeemanuelpgh.org/event/virtual-minyan-2020-08-30/2020-10-04/
END:VEVENT
BEGIN:VEVENT
DTSTART;TZID=America/New_York:20201009T190000
DTEND;TZID=America/New_York:20201009T200000
DTSTAMP:20260424T120459
CREATED:20200701T224715Z
LAST-MODIFIED:20210701T151515Z
UID:10001503-1602270000-1602273600@templeemanuelpgh.org
SUMMARY:Shabbat Evening Service
DESCRIPTION:
URL:https://templeemanuelpgh.org/event/virtual-friday-night-service/2020-10-09/
END:VEVENT
BEGIN:VEVENT
DTSTART;TZID=America/New_York:20201010T081500
DTEND;TZID=America/New_York:20201010T090000
DTSTAMP:20260424T120459
CREATED:20200701T230946Z
LAST-MODIFIED:20210701T152348Z
UID:10001965-1602317700-1602320400@templeemanuelpgh.org
SUMMARY:Shabbat Morning Service w/Yizkor
DESCRIPTION:
URL:https://templeemanuelpgh.org/event/shabbat-morning-services-2020-08-01-2020-10-10/
END:VEVENT
BEGIN:VEVENT
DTSTART;TZID=America/New_York:20201010T090000
DTEND;TZID=America/New_York:20201010T101500
DTSTAMP:20260424T120459
CREATED:20200701T235038Z
LAST-MODIFIED:20200904T041437Z
UID:10001978-1602320400-1602324900@templeemanuelpgh.org
SUMMARY:Torah Study
DESCRIPTION:
URL:https://templeemanuelpgh.org/event/virtual-torah-study-2020-08-22/2020-10-10/
CATEGORIES:Adult Education
END:VEVENT
BEGIN:VEVENT
DTSTART;TZID=America/New_York:20201010T103000
DTEND;TZID=America/New_York:20201010T120000
DTSTAMP:20260424T120459
CREATED:20200522T145917Z
LAST-MODIFIED:20210701T153148Z
UID:10001498-1602325800-1602331200@templeemanuelpgh.org
SUMMARY:Spivak B'nai Mitzvah
DESCRIPTION:
URL:https://templeemanuelpgh.org/event/spivak-bnai-mitzvah/
END:VEVENT
BEGIN:VEVENT
DTSTART;TZID=America/New_York:20201010T200000
DTEND;TZID=America/New_York:20201010T203000
DTSTAMP:20260424T120459
CREATED:20200702T214053Z
LAST-MODIFIED:20210701T153459Z
UID:10002080-1602360000-1602361800@templeemanuelpgh.org
SUMMARY:Havdalah
DESCRIPTION:
URL:https://templeemanuelpgh.org/event/havdahla-2020-10-10/
END:VEVENT
BEGIN:VEVENT
DTSTART;TZID=America/New_York:20201011T093000
DTEND;TZID=America/New_York:20201011T101500
DTSTAMP:20260424T120459
CREATED:20200701T235828Z
LAST-MODIFIED:20210701T151648Z
UID:10002030-1602408600-1602411300@templeemanuelpgh.org
SUMMARY:Minyan
DESCRIPTION:
URL:https://templeemanuelpgh.org/event/virtual-minyan-2020-08-30/2020-10-11/
END:VEVENT
BEGIN:VEVENT
DTSTART;TZID=America/New_York:20201015T190000
DTEND;TZID=America/New_York:20201015T200000
DTSTAMP:20260424T120459
CREATED:20201002T143102Z
LAST-MODIFIED:20201129T190654Z
UID:10002144-1602788400-1602792000@templeemanuelpgh.org
SUMMARY:Introduction to Mussar
DESCRIPTION:Introduction to Mussar with Rabbi Jessica Locketz \nThird Thursday of every month\, 7-8 pm  \nWhat is Mussar? Join Rabbi Locketz in a beginning exploration of this Jewish spiritual practice that gives concrete instructions on how to live a meaningful and ethical life. Mussar is practiced through the study and application of Middot – character or “soul traits” – opportunities to work toward becoming our best selves.  
URL:https://templeemanuelpgh.org/event/introduction-to-mussar/2020-10-15/
CATEGORIES:Adult Education
END:VEVENT
END:VCALENDAR