BEGIN:VCALENDAR
VERSION:2.0
PRODID:-//Temple Emanuel - ECPv6.15.20//NONSGML v1.0//EN
CALSCALE:GREGORIAN
METHOD:PUBLISH
X-WR-CALNAME:Temple Emanuel
X-ORIGINAL-URL:https://templeemanuelpgh.org
X-WR-CALDESC:Events for Temple Emanuel
REFRESH-INTERVAL;VALUE=DURATION:PT1H
X-Robots-Tag:noindex
X-PUBLISHED-TTL:PT1H
BEGIN:VTIMEZONE
TZID:America/New_York
BEGIN:DAYLIGHT
TZOFFSETFROM:-0500
TZOFFSETTO:-0400
TZNAME:EDT
DTSTART:20230312T070000
END:DAYLIGHT
BEGIN:STANDARD
TZOFFSETFROM:-0400
TZOFFSETTO:-0500
TZNAME:EST
DTSTART:20231105T060000
END:STANDARD
BEGIN:DAYLIGHT
TZOFFSETFROM:-0500
TZOFFSETTO:-0400
TZNAME:EDT
DTSTART:20240310T070000
END:DAYLIGHT
BEGIN:STANDARD
TZOFFSETFROM:-0400
TZOFFSETTO:-0500
TZNAME:EST
DTSTART:20241103T060000
END:STANDARD
BEGIN:DAYLIGHT
TZOFFSETFROM:-0500
TZOFFSETTO:-0400
TZNAME:EDT
DTSTART:20250309T070000
END:DAYLIGHT
BEGIN:STANDARD
TZOFFSETFROM:-0400
TZOFFSETTO:-0500
TZNAME:EST
DTSTART:20251102T060000
END:STANDARD
END:VTIMEZONE
BEGIN:VEVENT
DTSTART;TZID=America/New_York:20241108T173000
DTEND;TZID=America/New_York:20241108T190000
DTSTAMP:20260423T065256
CREATED:20240910T004547Z
LAST-MODIFIED:20240910T005044Z
UID:10003718-1731087000-1731092400@templeemanuelpgh.org
SUMMARY:KIDdish Club Family Shabbat
DESCRIPTION:We will join at Temple Emanuel for a kid-friendly dinner and craft from 5:30 to 6:00\, followed by a fast-paced musical Shabbat for the whole family at 6:00 PM. Stay for cookies and additional time for play after the service! While this program is designed with those ages 0-6 in mind\, older siblings\, parents\, and grandparents are welcome. Rebecca Closson\, Rabbi Emily\, Sarah Mangan\, Rabbi Aaron\, Cantor Kalix\, and all of your friends at Temple are excited to welcome you on Friday! \nRSVP to Sarah Mangan
URL:https://templeemanuelpgh.org/event/kiddish-club-family-shabbat/2024-11-08/
CATEGORIES:Young Family Programs
END:VEVENT
BEGIN:VEVENT
DTSTART;TZID=America/New_York:20241108T173000
DTEND;TZID=America/New_York:20241108T190000
DTSTAMP:20260423T065256
CREATED:20241105T153603Z
LAST-MODIFIED:20241105T153639Z
UID:10003778-1731087000-1731092400@templeemanuelpgh.org
SUMMARY:KIDdish Club Family Shabbat
DESCRIPTION:Join your Temple Emanuel community for a kid-friendly dinner and craft from 5:30 to 6:00\, followed by a fast-paced musical Shabbat for the whole family at 6:00 PM. Stay for cookies and additional time for play after the service! \nWhile this program is designed with those ages 0-6 in mind\, older siblings\, parents\, and grandparents are welcome. Rebecca Closson\, Rabbi Emily\, Sarah Mangan\, Rabbi Aaron\, Cantor Kalix\, and all of your friends at Temple are excited to welcome you on Friday! \nRSVP here.
URL:https://templeemanuelpgh.org/event/kiddish-club-family-shabbat-2/
CATEGORIES:Young Family Programs
END:VEVENT
BEGIN:VEVENT
DTSTART;TZID=America/New_York:20241108T190000
DTEND;TZID=America/New_York:20241108T200000
DTSTAMP:20260423T065256
CREATED:20241102T203854Z
LAST-MODIFIED:20241102T205719Z
UID:10003753-1731092400-1731096000@templeemanuelpgh.org
SUMMARY:Shabbat Evening Service in Honor of Veterans
DESCRIPTION:Join us for Shabbat evening service with Rabbi Aaron Meyer and Cantor Kalix Jacobson in the Beit HaT’filah. The service will also be livestreamed on our Facebook and YouTube pages. Join us for a nosh and conversation at oneg following the service.
URL:https://templeemanuelpgh.org/event/shabbat-evening-service-4/
CATEGORIES:Worship
END:VEVENT
BEGIN:VEVENT
DTSTART;TZID=America/New_York:20241109T083000
DTEND;TZID=America/New_York:20241109T090000
DTSTAMP:20260423T065256
CREATED:20241102T212229Z
LAST-MODIFIED:20241102T212229Z
UID:10003763-1731141000-1731142800@templeemanuelpgh.org
SUMMARY:Virtual Shabbat Morning Service
DESCRIPTION:Our Shabbat morning videos will be released on Facebook and YouTube. One will include the traditional first Aliyah from our Sefer Torah in Hebrew and translation\, and a brief exposition of how the themes and lessons of the parasha (Torah portion) relate to our modern lives.
URL:https://templeemanuelpgh.org/event/virtual-shabbat-morning-service-2/
CATEGORIES:Worship
END:VEVENT
BEGIN:VEVENT
DTSTART;TZID=America/New_York:20241109T090000
DTEND;TZID=America/New_York:20241109T100000
DTSTAMP:20260423T065256
CREATED:20241102T210858Z
LAST-MODIFIED:20241102T210858Z
UID:10003758-1731142800-1731146400@templeemanuelpgh.org
SUMMARY:Torah Study
DESCRIPTION:Saturday morning Torah Study with Rabbi Aaron Meyer will be offered in person at Temple and via Zoom video-conference. Zoom access can be found by clicking here.
URL:https://templeemanuelpgh.org/event/torah-study-3/
END:VEVENT
BEGIN:VEVENT
DTSTART;TZID=America/New_York:20241110T093000
DTEND;TZID=America/New_York:20241110T101500
DTSTAMP:20260423T065256
CREATED:20241102T213651Z
LAST-MODIFIED:20241105T160509Z
UID:10003768-1731231000-1731233700@templeemanuelpgh.org
SUMMARY:Sunday Morning Minyan
DESCRIPTION:All are welcome to join this casual\, brief\, lay-led service. Join in person in the Beit HaT’filah or online via Zoom. This is a great opportunity to become familiar with the service and with Hebrew\, to meet other members\, and to say Kaddish.
URL:https://templeemanuelpgh.org/event/sunday-morning-minyan-4/
CATEGORIES:Worship
END:VEVENT
BEGIN:VEVENT
DTSTART;TZID=America/New_York:20241110T140000
DTEND;TZID=America/New_York:20241110T153000
DTSTAMP:20260423T065256
CREATED:20241006T231434Z
LAST-MODIFIED:20241028T130708Z
UID:10003743-1731247200-1731252600@templeemanuelpgh.org
SUMMARY:Baking Workshop:  Oneg Cookies
DESCRIPTION:Bake cookies for our Shabbat oneg tables with Temple Emanuel caterer and educator Melinda Freed! Join us for learning and kehillah. Email Sarah Mangan to learn more and RSVP.
URL:https://templeemanuelpgh.org/event/baking-workshop-oneg-cookies/
END:VEVENT
BEGIN:VEVENT
DTSTART;TZID=America/New_York:20241113T193000
DTEND;TZID=America/New_York:20241113T220000
DTSTAMP:20260423T065256
CREATED:20240910T011309Z
LAST-MODIFIED:20240910T011309Z
UID:10003724-1731526200-1731535200@templeemanuelpgh.org
SUMMARY:Jewish Heritage Night with the Pittsburgh Penguins
DESCRIPTION:Join the Pens for Jewish Heritage Night when we host the Detroit Red Wings! Featuring a concourse display courtesy of the University of Pittsburgh Nationality Rooms & Intercultural Exchange Programs\, be here when we honor the incredible impact of our city’s Jewish community and celebrate their rich culture and history. Meet and mingle with your Temple Emanuel community in the Ford Lounge during half-time! \nIn celebration of your heritage\, lock in special pricing now. Plus\, the first 300 community members that purchase tickets through this offer will receive an exclusive Penguins-branded Jewish Heritage Night Hockey Shirt! \nClick here and select your preferred section to get started!
URL:https://templeemanuelpgh.org/event/jewish-heritage-night-with-the-pittsburgh-penguins/
END:VEVENT
BEGIN:VEVENT
DTSTART;TZID=America/New_York:20241114T173000
DTEND;TZID=America/New_York:20241114T210000
DTSTAMP:20260423T065256
CREATED:20241102T215354Z
LAST-MODIFIED:20241102T215354Z
UID:10003772-1731605400-1731618000@templeemanuelpgh.org
SUMMARY:Includ(Ed) Conference
DESCRIPTION:Temple Emanuel will host the Includ(Ed) Conference\, bringing together parents\, educators\, advocates and service providers of children with disabilities. \nRegister and learn more here! \nThe vision of parent organizers and advocates Anna Lynch and Jenna Hartman is for this conference to be an opportunity to bring together families\, early childhood educators\, local businesses and organizations to create a community-wide partnership to increase disability awareness\, support meaningful inclusion in early childhood programs and empower parents as advocates. Their hope is that no child will be turned away from a preschool based on assumptions about their disability.
URL:https://templeemanuelpgh.org/event/included-conference/
END:VEVENT
BEGIN:VEVENT
DTSTART;TZID=America/New_York:20241115T130000
DTEND;TZID=America/New_York:20241115T134500
DTSTAMP:20260423T065256
CREATED:20241105T164755Z
LAST-MODIFIED:20241105T164755Z
UID:10003796-1731675600-1731678300@templeemanuelpgh.org
SUMMARY:Friday Afternoon Torah Study
DESCRIPTION:Join Rabbi Meyer for a 45-minute discussion of Proverbs\, the wisdom literature of Jewish tradition\, on Zoom by clicking here.
URL:https://templeemanuelpgh.org/event/friday-afternoon-torah-study-7/
END:VEVENT
BEGIN:VEVENT
DTSTART;TZID=America/New_York:20241115T190000
DTEND;TZID=America/New_York:20241115T200000
DTSTAMP:20260423T065256
CREATED:20241102T204032Z
LAST-MODIFIED:20241102T204032Z
UID:10003754-1731697200-1731700800@templeemanuelpgh.org
SUMMARY:Shabbat Evening Service
DESCRIPTION:Join us for Shabbat evening service with Rabbi Aaron Meyer and Cantor Kalix Jacobson in the Beit HaT’filah. The service will also be livestreamed on our Facebook and YouTube pages. Join us for a nosh and conversation at oneg following the service.
URL:https://templeemanuelpgh.org/event/shabbat-evening-service-5/
CATEGORIES:Worship
END:VEVENT
BEGIN:VEVENT
DTSTART;TZID=America/New_York:20241116T083000
DTEND;TZID=America/New_York:20241116T090000
DTSTAMP:20260423T065256
CREATED:20241102T212342Z
LAST-MODIFIED:20241102T212353Z
UID:10003764-1731745800-1731747600@templeemanuelpgh.org
SUMMARY:Virtual Shabbat Morning Service
DESCRIPTION:Our Shabbat morning videos will be released on Facebook and YouTube. One will include the traditional first Aliyah from our Sefer Torah in Hebrew and translation\, and a brief exposition of how the themes and lessons of the parasha (Torah portion) relate to our modern lives.
URL:https://templeemanuelpgh.org/event/virtual-shabbat-morning-service-3/
CATEGORIES:Worship
END:VEVENT
BEGIN:VEVENT
DTSTART;TZID=America/New_York:20241116T090000
DTEND;TZID=America/New_York:20241116T100000
DTSTAMP:20260423T065256
CREATED:20241102T210956Z
LAST-MODIFIED:20241102T210956Z
UID:10003759-1731747600-1731751200@templeemanuelpgh.org
SUMMARY:Torah Study
DESCRIPTION:Saturday morning Torah Study with Rabbi Aaron Meyer will be offered in person at Temple and via Zoom video-conference. Zoom access can be found by clicking here.
URL:https://templeemanuelpgh.org/event/torah-study-4/
END:VEVENT
BEGIN:VEVENT
DTSTART;TZID=America/New_York:20241116T200000
DTEND;TZID=America/New_York:20241116T201500
DTSTAMP:20260423T065256
CREATED:20241112T012013Z
LAST-MODIFIED:20241112T012109Z
UID:10003809-1731787200-1731788100@templeemanuelpgh.org
SUMMARY:Havdalah
DESCRIPTION:Join us virtually for Havdalah on Temple’s Facebook page.
URL:https://templeemanuelpgh.org/event/havdalah-4/
END:VEVENT
BEGIN:VEVENT
DTSTART;TZID=America/New_York:20241117T093000
DTEND;TZID=America/New_York:20241117T101500
DTSTAMP:20260423T065256
CREATED:20241102T214137Z
LAST-MODIFIED:20241105T160427Z
UID:10003769-1731835800-1731838500@templeemanuelpgh.org
SUMMARY:Sunday Morning Minyan
DESCRIPTION:All are welcome to join this casual\, brief\, lay-led service. Join in person in the Beit HaT’filah or online via Zoom. This is a great opportunity to become familiar with the service and with Hebrew\, to meet other members\, and to say Kaddish.
URL:https://templeemanuelpgh.org/event/sunday-morning-minyan-5/
CATEGORIES:Worship
END:VEVENT
BEGIN:VEVENT
DTSTART;TZID=America/New_York:20241117T140000
DTEND;TZID=America/New_York:20241117T160000
DTSTAMP:20260423T065256
CREATED:20241006T232231Z
LAST-MODIFIED:20241006T232231Z
UID:10003744-1731852000-1731859200@templeemanuelpgh.org
SUMMARY:Mahj for a Cause
DESCRIPTION:Join in for table games of Mahjong. Donations benefit Temple Emanuel’s Giving Tuesday campaign. RSVP to Sarah.
URL:https://templeemanuelpgh.org/event/mahj-for-a-cause/
END:VEVENT
BEGIN:VEVENT
DTSTART;TZID=America/New_York:20241118T183000
DTEND;TZID=America/New_York:20241118T200000
DTSTAMP:20260423T065256
CREATED:20241006T232740Z
LAST-MODIFIED:20241006T232740Z
UID:10003745-1731954600-1731960000@templeemanuelpgh.org
SUMMARY:Abraham’s Table
DESCRIPTION:Join the Temple Emanuel\, St. Paul’s Episcopal Church\, and Turkish Cultural Center communities for another year of interfaith programs! To sign up and learn more about this program\, click here!
URL:https://templeemanuelpgh.org/event/abrahams-table/
END:VEVENT
BEGIN:VEVENT
DTSTART;TZID=America/New_York:20241119T130000
DTEND;TZID=America/New_York:20241119T133000
DTSTAMP:20260423T065256
CREATED:20241102T214812Z
LAST-MODIFIED:20241102T214812Z
UID:10003771-1732021200-1732023000@templeemanuelpgh.org
SUMMARY:Team Sandwich
DESCRIPTION:Join us to address food insecurity in the Pittsburgh region by making and donating sandwiches every third Tuesday of the month. Drop-off is between 1:00 and 1:30 pm\, but feel free to drop them off at a time that is convenient for you. Email Susie Hommel to sign up and learn more!
URL:https://templeemanuelpgh.org/event/team-sandwich-3/
CATEGORIES:Social Action
END:VEVENT
BEGIN:VEVENT
DTSTART;TZID=America/New_York:20241122T130000
DTEND;TZID=America/New_York:20241122T134500
DTSTAMP:20260423T065256
CREATED:20241105T165054Z
LAST-MODIFIED:20241105T165054Z
UID:10003798-1732280400-1732283100@templeemanuelpgh.org
SUMMARY:Friday Afternoon Torah Study
DESCRIPTION:Join Rabbi Meyer for a 45-minute discussion of Proverbs\, the wisdom literature of Jewish tradition\, on Zoom by clicking here.
URL:https://templeemanuelpgh.org/event/friday-afternoon-torah-study-9/
END:VEVENT
BEGIN:VEVENT
DTSTART;TZID=America/New_York:20241122T190000
DTEND;TZID=America/New_York:20241122T200000
DTSTAMP:20260423T065256
CREATED:20241102T204514Z
LAST-MODIFIED:20241102T204823Z
UID:10003755-1732302000-1732305600@templeemanuelpgh.org
SUMMARY:Shabbat Evening Service
DESCRIPTION:Join us for Shabbat evening service with Rabbi Aaron Meyer and Cantor Kalix Jacobson in the Beit HaT’filah. The service will also be livestreamed on our Facebook and YouTube pages. Join us for a nosh and conversation at oneg following the service.
URL:https://templeemanuelpgh.org/event/shabbat-evening-services-7/
CATEGORIES:Worship
END:VEVENT
BEGIN:VEVENT
DTSTART;TZID=America/New_York:20241123T083000
DTEND;TZID=America/New_York:20241123T090000
DTSTAMP:20260423T065256
CREATED:20241102T212451Z
LAST-MODIFIED:20241102T212451Z
UID:10003765-1732350600-1732352400@templeemanuelpgh.org
SUMMARY:Virtual Shabbat Morning Service
DESCRIPTION:Our Shabbat morning videos will be released on Facebook and YouTube. One will include the traditional first Aliyah from our Sefer Torah in Hebrew and translation\, and a brief exposition of how the themes and lessons of the parasha (Torah portion) relate to our modern lives.
URL:https://templeemanuelpgh.org/event/virtual-shabbat-morning-service-4/
CATEGORIES:Worship
END:VEVENT
BEGIN:VEVENT
DTSTART;TZID=America/New_York:20241123T090000
DTEND;TZID=America/New_York:20241123T100000
DTSTAMP:20260423T065256
CREATED:20241102T211100Z
LAST-MODIFIED:20241102T211100Z
UID:10003760-1732352400-1732356000@templeemanuelpgh.org
SUMMARY:Torah Study
DESCRIPTION:Saturday morning Torah Study with Rabbi Aaron Meyer will be offered in person at Temple and via Zoom video-conference. Zoom access can be found by clicking here.
URL:https://templeemanuelpgh.org/event/torah-study-5/
END:VEVENT
BEGIN:VEVENT
DTSTART;TZID=America/New_York:20241123T100000
DTEND;TZID=America/New_York:20241123T120000
DTSTAMP:20260423T065256
CREATED:20241007T000032Z
LAST-MODIFIED:20241102T215608Z
UID:10003750-1732356000-1732363200@templeemanuelpgh.org
SUMMARY:2024 Thanksgiving Food Drive and Meal Kit Assembly Event
DESCRIPTION:We will be hosting our 3rd Annual Thanksgiving Food Drive!\nOur goal is to pack 150 bags of Thanksgiving sides for families facing food insecurities in the Carnegie community. \nIn order to plan for success\, we ask that you let us know who you plan to bring to volunteer and what items you plan to donate! \nThe best way to be sure we have enough of everything is for each participant to plan to bring at least 5 of the items you sign up for. For example\, if you plan to bring boxed mashed potatoes and gravy\, please plan to purchase 5 boxes of mashed potatoes and 5 boxes of gravy. \nWe will pack the boxes on November 23rd at 10am at Temple Emmanuel! \nIf you are unable to attend\, but would like to donate. You may drop donations off at Temple Emmanuel ECDC ahead of time. \nPlease contact Sarah Mangan smangan@templeemanuelpgh.org or Sarah Todd Sarah@Uptownspeechmtl.com with any questions! \nSign up here!
URL:https://templeemanuelpgh.org/event/2024-thanksgiving-food-drive/
CATEGORIES:Social Action
END:VEVENT
BEGIN:VEVENT
DTSTART;TZID=America/New_York:20241123T200000
DTEND;TZID=America/New_York:20241123T201500
DTSTAMP:20260423T065256
CREATED:20241112T012234Z
LAST-MODIFIED:20241112T012234Z
UID:10003810-1732392000-1732392900@templeemanuelpgh.org
SUMMARY:Havdalah
DESCRIPTION:Join us virtually for Havdalah on Temple’s Facebook page.
URL:https://templeemanuelpgh.org/event/havdalah-5/
END:VEVENT
BEGIN:VEVENT
DTSTART;TZID=America/New_York:20241124T093000
DTEND;TZID=America/New_York:20241124T101500
DTSTAMP:20260423T065256
CREATED:20241102T214259Z
LAST-MODIFIED:20241105T160555Z
UID:10003770-1732440600-1732443300@templeemanuelpgh.org
SUMMARY:Sunday Morning Minyan
DESCRIPTION:All are welcome to join this casual\, brief\, lay-led service. Join in person in the Beit HaT’filah or online via Zoom. This is a great opportunity to become familiar with the service and with Hebrew\, to meet other members\, and to say Kaddish.
URL:https://templeemanuelpgh.org/event/sunday-morning-minyan-6/
CATEGORIES:Worship
END:VEVENT
BEGIN:VEVENT
DTSTART;TZID=America/New_York:20241124T093000
DTEND;TZID=America/New_York:20241124T110000
DTSTAMP:20260423T065256
CREATED:20241109T132611Z
LAST-MODIFIED:20241109T132724Z
UID:10003806-1732440600-1732446000@templeemanuelpgh.org
SUMMARY:Adult Education: "Black is the New Black" with Dr. Shayna Weiss
DESCRIPTION:Dr. Shayna Weiss\, the Associate Director of the Schusterman Center for Israel Studies at Brandeis University\, presents: Black is the New Black. Over the past two decades\, there have been over twenty shows about Haredi Jews on Israeli television\, ranging from family dramas like Shtisel to raunchy comedies such as Chanshi. There has even been a reality dating show\, Vort\, based on shidduchim (Haredi matchmaking) where young Haredi Jews go on pre-arranged dates with cameras rolling. Why are there so many TV shows about Haredi Jews\, and what do these shows tell us about Israeli society today? \nJoin us for bagels and nosh at 9:30 AM before the presentation begins at 10:00 AM in the Beit HaT’filah.
URL:https://templeemanuelpgh.org/event/adult-education-black-is-the-new-black-with-dr-shayna-weiss/
END:VEVENT
BEGIN:VEVENT
DTSTART;TZID=America/New_York:20241124T123000
DTEND;TZID=America/New_York:20241124T133000
DTSTAMP:20260423T065256
CREATED:20241109T133426Z
LAST-MODIFIED:20241109T133426Z
UID:10003807-1732451400-1732455000@templeemanuelpgh.org
SUMMARY:Author Meet and Greet with Stephanie Claypool
DESCRIPTION:
URL:https://templeemanuelpgh.org/event/author-meet-and-greet-with-stephanie-claypool/
LOCATION:Library
END:VEVENT
BEGIN:VEVENT
DTSTART;TZID=America/New_York:20241126T190000
DTEND;TZID=America/New_York:20241126T203000
DTSTAMP:20260423T065256
CREATED:20241120T030641Z
LAST-MODIFIED:20241120T030641Z
UID:10003820-1732647600-1732653000@templeemanuelpgh.org
SUMMARY:58th Annual Interfaith Thanksgiving: Lighting the Dark
DESCRIPTION:
URL:https://templeemanuelpgh.org/event/58th-annual-interfaith-thanksgiving-lighting-the-dark/
LOCATION:Bower Hill Community Church\, 70 Moffet St.\, Pittsburgh\, 15243\, United States
GEO:40.384622;-80.060571
X-APPLE-STRUCTURED-LOCATION;VALUE=URI;X-ADDRESS=Bower Hill Community Church 70 Moffet St. Pittsburgh 15243 United States;X-APPLE-RADIUS=500;X-TITLE=70 Moffet St.:geo:-80.060571,40.384622
END:VEVENT
BEGIN:VEVENT
DTSTART;TZID=America/New_York:20241129T130000
DTEND;TZID=America/New_York:20241129T134500
DTSTAMP:20260423T065256
CREATED:20241105T165219Z
LAST-MODIFIED:20241105T165219Z
UID:10003799-1732885200-1732887900@templeemanuelpgh.org
SUMMARY:Friday Afternoon Torah Study
DESCRIPTION:Join Rabbi Meyer for a 45-minute discussion of Proverbs\, the wisdom literature of Jewish tradition\, on Zoom by clicking here.
URL:https://templeemanuelpgh.org/event/friday-afternoon-torah-study-10/
END:VEVENT
BEGIN:VEVENT
DTSTART;TZID=America/New_York:20241129T190000
DTEND;TZID=America/New_York:20241129T200000
DTSTAMP:20260423T065256
CREATED:20241102T204738Z
LAST-MODIFIED:20241102T205031Z
UID:10003756-1732906800-1732910400@templeemanuelpgh.org
SUMMARY:Shabbat Evening Service
DESCRIPTION:Join us for Shabbat evening service with Rabbi Aaron Meyer and Cantor Kalix Jacobson in the Beit HaT’filah. The service will also be livestreamed on our Facebook and YouTube pages. Join us for a nosh and conversation at oneg following the service.
URL:https://templeemanuelpgh.org/event/shabbat-evening-services-8/
CATEGORIES:Worship
END:VEVENT
END:VCALENDAR