BEGIN:VCALENDAR
VERSION:2.0
PRODID:-//Temple Emanuel - ECPv6.15.20//NONSGML v1.0//EN
CALSCALE:GREGORIAN
METHOD:PUBLISH
X-WR-CALNAME:Temple Emanuel
X-ORIGINAL-URL:https://templeemanuelpgh.org
X-WR-CALDESC:Events for Temple Emanuel
REFRESH-INTERVAL;VALUE=DURATION:PT1H
X-Robots-Tag:noindex
X-PUBLISHED-TTL:PT1H
BEGIN:VTIMEZONE
TZID:America/New_York
BEGIN:DAYLIGHT
TZOFFSETFROM:-0500
TZOFFSETTO:-0400
TZNAME:EDT
DTSTART:20240310T070000
END:DAYLIGHT
BEGIN:STANDARD
TZOFFSETFROM:-0400
TZOFFSETTO:-0500
TZNAME:EST
DTSTART:20241103T060000
END:STANDARD
BEGIN:DAYLIGHT
TZOFFSETFROM:-0500
TZOFFSETTO:-0400
TZNAME:EDT
DTSTART:20250309T070000
END:DAYLIGHT
BEGIN:STANDARD
TZOFFSETFROM:-0400
TZOFFSETTO:-0500
TZNAME:EST
DTSTART:20251102T060000
END:STANDARD
BEGIN:DAYLIGHT
TZOFFSETFROM:-0500
TZOFFSETTO:-0400
TZNAME:EDT
DTSTART:20260308T070000
END:DAYLIGHT
BEGIN:STANDARD
TZOFFSETFROM:-0400
TZOFFSETTO:-0500
TZNAME:EST
DTSTART:20261101T060000
END:STANDARD
END:VTIMEZONE
BEGIN:VEVENT
DTSTART;TZID=America/New_York:20251125T190000
DTEND;TZID=America/New_York:20251125T210000
DTSTAMP:20260423T064731
CREATED:20251021T160203Z
LAST-MODIFIED:20251021T160203Z
UID:10005893-1764097200-1764104400@templeemanuelpgh.org
SUMMARY:A Seat at the Table: 59th Annual Interfaith Thanksgiving Service
DESCRIPTION:A Seat at the Table: \n59th ANNUAL INTERFAITH THANKSGIVING SERVICE \n  \nTuesday\, November 25th at 7:00 PM \nTemple Emanuel of South Hills \n1250 Bower Hill Road \n\nYou are encouraged to bring a nonperishable food item as a gift to our neighbors in need through the South Hills Interfaith Movement. \n 
URL:https://templeemanuelpgh.org/event/a-seat-at-the-table-59th-annual-interfaith-thanksgiving-service/
CATEGORIES:Community Event
ATTACH;FMTTYPE=image/png:https://templeemanuelpgh.org/wp-content/uploads/2025/10/2.png
END:VEVENT
BEGIN:VEVENT
DTSTART;TZID=America/New_York:20251123T093000
DTEND;TZID=America/New_York:20251123T101500
DTSTAMP:20260423T064731
CREATED:20241120T033655Z
LAST-MODIFIED:20260412T131916Z
UID:10005137-1763890200-1763892900@templeemanuelpgh.org
SUMMARY:Sunday Morning Minyan
DESCRIPTION:All are welcome to join this casual\, brief\, lay-led service. Join in person in the Beit HaT’filah or online via Zoom. This is a great opportunity to become familiar with the service and with Hebrew\, to meet other members\, and to say Kaddish.
URL:https://templeemanuelpgh.org/event/sunday-morning-minyan-12/2025-11-23/
CATEGORIES:Worship
END:VEVENT
BEGIN:VEVENT
DTSTART;TZID=America/New_York:20251122T200000
DTEND;TZID=America/New_York:20251122T201500
DTSTAMP:20260423T064731
CREATED:20241120T033406Z
LAST-MODIFIED:20241120T033406Z
UID:10004882-1763841600-1763842500@templeemanuelpgh.org
SUMMARY:Havdalah
DESCRIPTION:Join us virtually for Havdalah on Temple’s Facebook page.
URL:https://templeemanuelpgh.org/event/havdalah-12/2025-11-22/
CATEGORIES:Worship
END:VEVENT
BEGIN:VEVENT
DTSTART;TZID=America/New_York:20251122T100000
DTEND;TZID=America/New_York:20251122T120000
DTSTAMP:20260423T064731
CREATED:20251015T154940Z
LAST-MODIFIED:20251015T154940Z
UID:10005891-1763805600-1763812800@templeemanuelpgh.org
SUMMARY:Annual Thanksgiving Food Drive Event
DESCRIPTION:Help us support Carnegie FreeStore 15106 with our third annual Thanksgiving Food Drive event! Families with children of all ages are invited to join VolunTOTs\, Uptown Speech Therapy\, and Temple Emanuel to assemble kits of Thanksgiving sides and desserts for Carnegie Elementary School’s FreeStore 15106. In addition to the kit assembly\, there will be card making stations and a story time. \nDonations will be accepted at Temple Emanuel of South Hills and Uptown Speech Therapy until Friday\, November 21st. \nPlease click here to RSVP and view donations.
URL:https://templeemanuelpgh.org/event/annual-thanksgiving-food-drive-event/
CATEGORIES:Community Event,Young Family Programs
ATTACH;FMTTYPE=image/png:https://templeemanuelpgh.org/wp-content/uploads/2025/10/Thanksgiving-Food-Drive-1.png
END:VEVENT
BEGIN:VEVENT
DTSTART;TZID=America/New_York:20251122T090000
DTEND;TZID=America/New_York:20251122T100000
DTSTAMP:20260423T064731
CREATED:20241120T032844Z
LAST-MODIFIED:20241120T032844Z
UID:10004628-1763802000-1763805600@templeemanuelpgh.org
SUMMARY:Torah Study
DESCRIPTION:Saturday morning Torah Study with Rabbi Aaron Meyer will be offered in person at Temple and via Zoom video-conference. Zoom access can be found by clicking here.
URL:https://templeemanuelpgh.org/event/torah-study-14/2025-11-22/
CATEGORIES:Adult Education
END:VEVENT
BEGIN:VEVENT
DTSTART;TZID=America/New_York:20251122T083000
DTEND;TZID=America/New_York:20251122T090000
DTSTAMP:20260423T064731
CREATED:20241120T032406Z
LAST-MODIFIED:20241120T032406Z
UID:10004374-1763800200-1763802000@templeemanuelpgh.org
SUMMARY:Virtual Shabbat Morning Service
DESCRIPTION:Our Shabbat morning videos will be released on Facebook and YouTube. One will include the traditional first Aliyah from our Sefer Torah in Hebrew and translation\, and a brief exposition of how the themes and lessons of the parasha (Torah portion) relate to our modern lives.
URL:https://templeemanuelpgh.org/event/virtual-shabbat-morning-service-10/2025-11-22/
CATEGORIES:Worship
END:VEVENT
BEGIN:VEVENT
DTSTART;TZID=America/New_York:20251121T190000
DTEND;TZID=America/New_York:20251121T200000
DTSTAMP:20260423T064731
CREATED:20250708T145657Z
LAST-MODIFIED:20250708T145658Z
UID:10003866-1763751600-1763755200@templeemanuelpgh.org
SUMMARY:Shabbat Evening Service
DESCRIPTION:Join us for Shabbat evening service with Rabbi Aaron Meyer and Cantor Kalix Jacobson in the Beit HaT’filah. The service will also be livestreamed on our Facebook and YouTube pages. Join us for a nosh and conversation at oneg following the service.
URL:https://templeemanuelpgh.org/event/shabbat-evening-service-9-2/2025-11-21/
CATEGORIES:Worship
END:VEVENT
BEGIN:VEVENT
DTSTART;TZID=America/New_York:20251121T130000
DTEND;TZID=America/New_York:20251121T134500
DTSTAMP:20260423T064731
CREATED:20241120T032034Z
LAST-MODIFIED:20251001T160749Z
UID:10004120-1763730000-1763732700@templeemanuelpgh.org
SUMMARY:Friday Afternoon Text Study
DESCRIPTION:Have you ever wondered what comes after the Torah? The Hebrew Bible\, also known as the TaNaCh\, consists of Torah (Ta)\, Prophets (Na)\, and Writings (Ch)\, telling the stories of the kings of Israel\, prophets and judges. Jews are often experts in the “Ta” but not the “NaCh” – until now! Join Rabbi Meyer for a 45-minute exploration of these “NaCh” texts on Zoom by clicking here.
URL:https://templeemanuelpgh.org/event/friday-afternoon-torah-study-8/2025-11-21/
CATEGORIES:Adult Education
END:VEVENT
BEGIN:VEVENT
DTSTART;TZID=America/New_York:20251120T190000
DTEND;TZID=America/New_York:20251120T203000
DTSTAMP:20260423T064731
CREATED:20251117T141605Z
LAST-MODIFIED:20251117T141820Z
UID:10005959-1763665200-1763670600@templeemanuelpgh.org
SUMMARY:We Remember: A Musical Memorial
DESCRIPTION:Featuring both sacred and secular music arranged and performed by cantors Kalix Jacobson\, Jordan Goldstein\, + Ze’evi Tovlev.\nWe Remember: A Musical Memorial Honoring Transgender Day of Remembrance \nJoin The Rotunda Collaborative for a heartfelt evening of music and remembrance with the first ordained transgender cantors: Kalix Jacobson\, Jordan Goldstein\,+ Ze’evi Tovlev. \nPlease note the Rotunda is still undergoing renovations and we encourage attendees to dress in layers to accommodate changing weather. Parking will be available on side streets. \nReserve your tickets here.
URL:https://templeemanuelpgh.org/event/we-remember-a-musical-memorial/
CATEGORIES:Community Event
ATTACH;FMTTYPE=image/jpeg:https://templeemanuelpgh.org/wp-content/uploads/2025/11/2470e21f-6b54-59ea-5680-ec9833d90dd3.jpg
END:VEVENT
BEGIN:VEVENT
DTSTART;TZID=America/New_York:20251119T190000
DTEND;TZID=America/New_York:20251119T203000
DTSTAMP:20260423T064731
CREATED:20251015T155443Z
LAST-MODIFIED:20251015T155443Z
UID:10005892-1763578800-1763584200@templeemanuelpgh.org
SUMMARY:Women+ of Temple Emanuel Book Club
DESCRIPTION:RSVP to Sarah Mangan for the location.
URL:https://templeemanuelpgh.org/event/women-of-temple-emanuel-book-club/
CATEGORIES:WTE (Women+ of Temple Emanuel)
ATTACH;FMTTYPE=image/png:https://templeemanuelpgh.org/wp-content/uploads/2025/10/Book-Club-3.png
END:VEVENT
BEGIN:VEVENT
DTSTART;TZID=America/New_York:20251118T130000
DTEND;TZID=America/New_York:20251118T133000
DTSTAMP:20260423T064731
CREATED:20241105T171112Z
LAST-MODIFIED:20250120T150316Z
UID:10005369-1763470800-1763472600@templeemanuelpgh.org
SUMMARY:Team Sandwich
DESCRIPTION:Join us to address food insecurity in the Pittsburgh region by making and donating sandwiches every third Tuesday of the month. Drop-off is between 1:00 and 1:30 pm\, but feel free to drop them off at a time that is convenient for you. Email Susie Hommel to sign up and learn more!
URL:https://templeemanuelpgh.org/event/team-sandwich-4/2025-11-18/
CATEGORIES:Social Action
END:VEVENT
BEGIN:VEVENT
DTSTART;TZID=America/New_York:20251117T190000
DTEND;TZID=America/New_York:20251117T203000
DTSTAMP:20260423T064731
CREATED:20251117T134118Z
LAST-MODIFIED:20251117T134118Z
UID:10005956-1763406000-1763411400@templeemanuelpgh.org
SUMMARY:Learn Mahjong!
DESCRIPTION:Want to learn how to play Mahjong? Join us at Temple Emanuel for a free class. No experience necessary! \nRSVP Here
URL:https://templeemanuelpgh.org/event/learn-mahjong/
END:VEVENT
BEGIN:VEVENT
DTSTART;TZID=America/New_York:20251116T140000
DTEND;TZID=America/New_York:20251116T160000
DTSTAMP:20260423T064731
CREATED:20250902T131956Z
LAST-MODIFIED:20250902T131956Z
UID:10005822-1763301600-1763308800@templeemanuelpgh.org
SUMMARY:Mahjong
DESCRIPTION:Join in for table games of Mahjong. To learn more and RSVP\, email Sarah at smangan@templeemanuelpgh.org.
URL:https://templeemanuelpgh.org/event/mahjong-4/
CATEGORIES:WTE (Women+ of Temple Emanuel)
ATTACH;FMTTYPE=image/png:https://templeemanuelpgh.org/wp-content/uploads/2025/09/Screenshot-2025-09-02-091158.png
END:VEVENT
BEGIN:VEVENT
DTSTART;TZID=America/New_York:20251116T093000
DTEND;TZID=America/New_York:20251116T101500
DTSTAMP:20260423T064731
CREATED:20241120T033655Z
LAST-MODIFIED:20260412T131916Z
UID:10005136-1763285400-1763288100@templeemanuelpgh.org
SUMMARY:Sunday Morning Minyan
DESCRIPTION:All are welcome to join this casual\, brief\, lay-led service. Join in person in the Beit HaT’filah or online via Zoom. This is a great opportunity to become familiar with the service and with Hebrew\, to meet other members\, and to say Kaddish.
URL:https://templeemanuelpgh.org/event/sunday-morning-minyan-12/2025-11-16/
CATEGORIES:Worship
END:VEVENT
BEGIN:VEVENT
DTSTART;TZID=America/New_York:20251115T200000
DTEND;TZID=America/New_York:20251115T201500
DTSTAMP:20260423T064731
CREATED:20241120T033406Z
LAST-MODIFIED:20241120T033406Z
UID:10004881-1763236800-1763237700@templeemanuelpgh.org
SUMMARY:Havdalah
DESCRIPTION:Join us virtually for Havdalah on Temple’s Facebook page.
URL:https://templeemanuelpgh.org/event/havdalah-12/2025-11-15/
CATEGORIES:Worship
END:VEVENT
BEGIN:VEVENT
DTSTART;TZID=America/New_York:20251115T090000
DTEND;TZID=America/New_York:20251115T100000
DTSTAMP:20260423T064731
CREATED:20241120T032844Z
LAST-MODIFIED:20241120T032844Z
UID:10004627-1763197200-1763200800@templeemanuelpgh.org
SUMMARY:Torah Study
DESCRIPTION:Saturday morning Torah Study with Rabbi Aaron Meyer will be offered in person at Temple and via Zoom video-conference. Zoom access can be found by clicking here.
URL:https://templeemanuelpgh.org/event/torah-study-14/2025-11-15/
CATEGORIES:Adult Education
END:VEVENT
BEGIN:VEVENT
DTSTART;TZID=America/New_York:20251115T083000
DTEND;TZID=America/New_York:20251115T090000
DTSTAMP:20260423T064731
CREATED:20241120T032406Z
LAST-MODIFIED:20241120T032406Z
UID:10004373-1763195400-1763197200@templeemanuelpgh.org
SUMMARY:Virtual Shabbat Morning Service
DESCRIPTION:Our Shabbat morning videos will be released on Facebook and YouTube. One will include the traditional first Aliyah from our Sefer Torah in Hebrew and translation\, and a brief exposition of how the themes and lessons of the parasha (Torah portion) relate to our modern lives.
URL:https://templeemanuelpgh.org/event/virtual-shabbat-morning-service-10/2025-11-15/
CATEGORIES:Worship
END:VEVENT
BEGIN:VEVENT
DTSTART;TZID=America/New_York:20251114T190000
DTEND;TZID=America/New_York:20251114T200000
DTSTAMP:20260423T064731
CREATED:20250708T145657Z
LAST-MODIFIED:20250708T145658Z
UID:10003865-1763146800-1763150400@templeemanuelpgh.org
SUMMARY:Shabbat Evening Service
DESCRIPTION:Join us for Shabbat evening service with Rabbi Aaron Meyer and Cantor Kalix Jacobson in the Beit HaT’filah. The service will also be livestreamed on our Facebook and YouTube pages. Join us for a nosh and conversation at oneg following the service.
URL:https://templeemanuelpgh.org/event/shabbat-evening-service-9-2/2025-11-14/
CATEGORIES:Worship
END:VEVENT
BEGIN:VEVENT
DTSTART;TZID=America/New_York:20251114T173000
DTEND;TZID=America/New_York:20251114T183000
DTSTAMP:20260423T064731
CREATED:20250902T125432Z
LAST-MODIFIED:20250902T125432Z
UID:10005819-1763141400-1763145000@templeemanuelpgh.org
SUMMARY:KIDdish Club Family Shabbat
DESCRIPTION:Join us for our monthly Shabbat service for families with children 0-6 years old! Email Rabbi Emily to RSVP at emeyer@templeemanuelpgh.org.
URL:https://templeemanuelpgh.org/event/kiddish-club-family-shabbat-5/
CATEGORIES:Featured,Young Family Programs
ATTACH;FMTTYPE=image/png:https://templeemanuelpgh.org/wp-content/uploads/2025/08/KIDdish-Club-1.png
END:VEVENT
BEGIN:VEVENT
DTSTART;TZID=America/New_York:20251114T130000
DTEND;TZID=America/New_York:20251114T134500
DTSTAMP:20260423T064731
CREATED:20241120T032034Z
LAST-MODIFIED:20251001T160749Z
UID:10004119-1763125200-1763127900@templeemanuelpgh.org
SUMMARY:Friday Afternoon Text Study
DESCRIPTION:Have you ever wondered what comes after the Torah? The Hebrew Bible\, also known as the TaNaCh\, consists of Torah (Ta)\, Prophets (Na)\, and Writings (Ch)\, telling the stories of the kings of Israel\, prophets and judges. Jews are often experts in the “Ta” but not the “NaCh” – until now! Join Rabbi Meyer for a 45-minute exploration of these “NaCh” texts on Zoom by clicking here.
URL:https://templeemanuelpgh.org/event/friday-afternoon-torah-study-8/2025-11-14/
CATEGORIES:Adult Education
END:VEVENT
BEGIN:VEVENT
DTSTART;TZID=America/New_York:20251113T190000
DTEND;TZID=America/New_York:20251113T200000
DTSTAMP:20260423T064731
CREATED:20251011T194156Z
LAST-MODIFIED:20251015T154519Z
UID:10005883-1763060400-1763064000@templeemanuelpgh.org
SUMMARY:Song Circle with Cantor Kalix
DESCRIPTION:On the 7th Hebrew anniversary of October 27th\, join Cantor Kalix in a solemn evening of music and memory as we look at songs of lamentation sung beginning in biblical times until the present day. Email Cantor Kalix with your RSVP and questions.
URL:https://templeemanuelpgh.org/event/song-circle-with-cantor-kalix/
CATEGORIES:Adult Education
ATTACH;FMTTYPE=image/png:https://templeemanuelpgh.org/wp-content/uploads/2025/10/Music-Memory-Song-Circle.png
END:VEVENT
BEGIN:VEVENT
DTSTART;TZID=America/New_York:20251113T100000
DTEND;TZID=America/New_York:20251113T110000
DTSTAMP:20260423T064731
CREATED:20251023T140342Z
LAST-MODIFIED:20260330T171616Z
UID:10005894-1763028000-1763031600@templeemanuelpgh.org
SUMMARY:Grief Group
DESCRIPTION:Are you presently living with or anticipating the loss of a loved one? Temple Emanuel is restarting a monthly grief support group\, meeting at 10:00 AM on the second Thursday of each month\, that offers a compassionate space for healing within community. \nGuided by Noah Potvin\, a member of Temple Emanuel and a licensed professional counselor\, participants will be supported in sharing personal stories of their loved ones\, exploring Jewish perspectives on grief\, and finding comfort in rituals of remembrance. The group emphasizes working together to construct meaning from loss\, joy in memory\, and fellowship in shared experience. \nFor questions\, please contact Sarah Mangan at smangan@templeemanuelpgh.org.
URL:https://templeemanuelpgh.org/event/grief-group/
ATTACH;FMTTYPE=image/png:https://templeemanuelpgh.org/wp-content/uploads/2025/10/Grief-Group.png
END:VEVENT
BEGIN:VEVENT
DTSTART;TZID=America/New_York:20251110T190000
DTEND;TZID=America/New_York:20251110T203000
DTSTAMP:20260423T064731
CREATED:20251015T154007Z
LAST-MODIFIED:20251015T154144Z
UID:10005890-1762801200-1762806600@templeemanuelpgh.org
SUMMARY:Pondering Prayer Series
DESCRIPTION:Ever wonder what the prayers mean – or why we say them? Join Rabbi Emily Meyer for a thoughtful\, welcoming exploration of the structure and spirit of Jewish prayer. We’ll unpack key prayers\, discover personal connections\, and explore new ways to engage in communal worship. RSVP by emailing Rabbi Emily here.
URL:https://templeemanuelpgh.org/event/pondering-prayer-series-2/2025-11-10/
CATEGORIES:Adult Education
ATTACH;FMTTYPE=image/png:https://templeemanuelpgh.org/wp-content/uploads/2025/10/Pondering-Prayer-1.png
END:VEVENT
BEGIN:VEVENT
DTSTART;TZID=America/New_York:20251109T093000
DTEND;TZID=America/New_York:20251109T101500
DTSTAMP:20260423T064731
CREATED:20241120T033655Z
LAST-MODIFIED:20260412T131916Z
UID:10005135-1762680600-1762683300@templeemanuelpgh.org
SUMMARY:Sunday Morning Minyan
DESCRIPTION:All are welcome to join this casual\, brief\, lay-led service. Join in person in the Beit HaT’filah or online via Zoom. This is a great opportunity to become familiar with the service and with Hebrew\, to meet other members\, and to say Kaddish.
URL:https://templeemanuelpgh.org/event/sunday-morning-minyan-12/2025-11-09/
CATEGORIES:Worship
END:VEVENT
BEGIN:VEVENT
DTSTART;TZID=America/New_York:20251108T200000
DTEND;TZID=America/New_York:20251108T201500
DTSTAMP:20260423T064731
CREATED:20241120T033406Z
LAST-MODIFIED:20241120T033406Z
UID:10004880-1762632000-1762632900@templeemanuelpgh.org
SUMMARY:Havdalah
DESCRIPTION:Join us virtually for Havdalah on Temple’s Facebook page.
URL:https://templeemanuelpgh.org/event/havdalah-12/2025-11-08/
CATEGORIES:Worship
END:VEVENT
BEGIN:VEVENT
DTSTART;TZID=America/New_York:20251108T090000
DTEND;TZID=America/New_York:20251108T100000
DTSTAMP:20260423T064731
CREATED:20241120T032844Z
LAST-MODIFIED:20241120T032844Z
UID:10004626-1762592400-1762596000@templeemanuelpgh.org
SUMMARY:Torah Study
DESCRIPTION:Saturday morning Torah Study with Rabbi Aaron Meyer will be offered in person at Temple and via Zoom video-conference. Zoom access can be found by clicking here.
URL:https://templeemanuelpgh.org/event/torah-study-14/2025-11-08/
CATEGORIES:Adult Education
END:VEVENT
BEGIN:VEVENT
DTSTART;TZID=America/New_York:20251108T083000
DTEND;TZID=America/New_York:20251108T090000
DTSTAMP:20260423T064731
CREATED:20241120T032406Z
LAST-MODIFIED:20241120T032406Z
UID:10004372-1762590600-1762592400@templeemanuelpgh.org
SUMMARY:Virtual Shabbat Morning Service
DESCRIPTION:Our Shabbat morning videos will be released on Facebook and YouTube. One will include the traditional first Aliyah from our Sefer Torah in Hebrew and translation\, and a brief exposition of how the themes and lessons of the parasha (Torah portion) relate to our modern lives.
URL:https://templeemanuelpgh.org/event/virtual-shabbat-morning-service-10/2025-11-08/
CATEGORIES:Worship
END:VEVENT
BEGIN:VEVENT
DTSTART;TZID=America/New_York:20251107T190000
DTEND;TZID=America/New_York:20251107T200000
DTSTAMP:20260423T064731
CREATED:20250708T145657Z
LAST-MODIFIED:20250708T145658Z
UID:10003864-1762542000-1762545600@templeemanuelpgh.org
SUMMARY:Shabbat Evening Service
DESCRIPTION:Join us for Shabbat evening service with Rabbi Aaron Meyer and Cantor Kalix Jacobson in the Beit HaT’filah. The service will also be livestreamed on our Facebook and YouTube pages. Join us for a nosh and conversation at oneg following the service.
URL:https://templeemanuelpgh.org/event/shabbat-evening-service-9-2/2025-11-07/
CATEGORIES:Worship
END:VEVENT
BEGIN:VEVENT
DTSTART;TZID=America/New_York:20251107T130000
DTEND;TZID=America/New_York:20251107T134500
DTSTAMP:20260423T064731
CREATED:20241120T032034Z
LAST-MODIFIED:20251001T160749Z
UID:10004118-1762520400-1762523100@templeemanuelpgh.org
SUMMARY:Friday Afternoon Text Study
DESCRIPTION:Have you ever wondered what comes after the Torah? The Hebrew Bible\, also known as the TaNaCh\, consists of Torah (Ta)\, Prophets (Na)\, and Writings (Ch)\, telling the stories of the kings of Israel\, prophets and judges. Jews are often experts in the “Ta” but not the “NaCh” – until now! Join Rabbi Meyer for a 45-minute exploration of these “NaCh” texts on Zoom by clicking here.
URL:https://templeemanuelpgh.org/event/friday-afternoon-torah-study-8/2025-11-07/
CATEGORIES:Adult Education
END:VEVENT
BEGIN:VEVENT
DTSTART;TZID=America/New_York:20251106T193000
DTEND;TZID=America/New_York:20251106T220000
DTSTAMP:20260423T064731
CREATED:20251006T204528Z
LAST-MODIFIED:20251028T115631Z
UID:10005881-1762457400-1762466400@templeemanuelpgh.org
SUMMARY:MOTE+ Brews Night at Grist House Command
DESCRIPTION:Join MOTE+ at the new Grist House Command located at 301 Sgt Messerschmidt Rd\, Oakdale\, PA 15071. \nRSVP to Sarah.
URL:https://templeemanuelpgh.org/event/mote-brews-night-at-grist-house-command/
CATEGORIES:MOTE (Men+ of Temple Emanuel)
ATTACH;FMTTYPE=image/png:https://templeemanuelpgh.org/wp-content/uploads/2025/10/7c2c3adb-5ca7-66cb-cab0-9c32acc2ef0b.png
END:VEVENT
END:VCALENDAR