BEGIN:VCALENDAR
VERSION:2.0
PRODID:-//Temple Emanuel - ECPv6.15.20//NONSGML v1.0//EN
CALSCALE:GREGORIAN
METHOD:PUBLISH
X-ORIGINAL-URL:https://templeemanuelpgh.org
X-WR-CALDESC:Events for Temple Emanuel
REFRESH-INTERVAL;VALUE=DURATION:PT1H
X-Robots-Tag:noindex
X-PUBLISHED-TTL:PT1H
BEGIN:VTIMEZONE
TZID:America/New_York
BEGIN:DAYLIGHT
TZOFFSETFROM:-0500
TZOFFSETTO:-0400
TZNAME:EDT
DTSTART:20240310T070000
END:DAYLIGHT
BEGIN:STANDARD
TZOFFSETFROM:-0400
TZOFFSETTO:-0500
TZNAME:EST
DTSTART:20241103T060000
END:STANDARD
BEGIN:DAYLIGHT
TZOFFSETFROM:-0500
TZOFFSETTO:-0400
TZNAME:EDT
DTSTART:20250309T070000
END:DAYLIGHT
BEGIN:STANDARD
TZOFFSETFROM:-0400
TZOFFSETTO:-0500
TZNAME:EST
DTSTART:20251102T060000
END:STANDARD
BEGIN:DAYLIGHT
TZOFFSETFROM:-0500
TZOFFSETTO:-0400
TZNAME:EDT
DTSTART:20260308T070000
END:DAYLIGHT
BEGIN:STANDARD
TZOFFSETFROM:-0400
TZOFFSETTO:-0500
TZNAME:EST
DTSTART:20261101T060000
END:STANDARD
END:VTIMEZONE
BEGIN:VEVENT
DTSTART;TZID=America/New_York:20250502T130000
DTEND;TZID=America/New_York:20250502T134500
DTSTAMP:20260423T084203
CREATED:20241120T032034Z
LAST-MODIFIED:20251001T160749Z
UID:10004091-1746190800-1746193500@templeemanuelpgh.org
SUMMARY:Friday Afternoon Text Study
DESCRIPTION:Have you ever wondered what comes after the Torah? The Hebrew Bible\, also known as the TaNaCh\, consists of Torah (Ta)\, Prophets (Na)\, and Writings (Ch)\, telling the stories of the kings of Israel\, prophets and judges. Jews are often experts in the “Ta” but not the “NaCh” – until now! Join Rabbi Meyer for a 45-minute exploration of these “NaCh” texts on Zoom by clicking here.
URL:https://templeemanuelpgh.org/event/friday-afternoon-torah-study-8/2025-05-02/
CATEGORIES:Adult Education
END:VEVENT
BEGIN:VEVENT
DTSTART;TZID=America/New_York:20250503T083000
DTEND;TZID=America/New_York:20250503T090000
DTSTAMP:20260423T084203
CREATED:20241120T032406Z
LAST-MODIFIED:20241120T032406Z
UID:10004345-1746261000-1746262800@templeemanuelpgh.org
SUMMARY:Virtual Shabbat Morning Service
DESCRIPTION:Our Shabbat morning videos will be released on Facebook and YouTube. One will include the traditional first Aliyah from our Sefer Torah in Hebrew and translation\, and a brief exposition of how the themes and lessons of the parasha (Torah portion) relate to our modern lives.
URL:https://templeemanuelpgh.org/event/virtual-shabbat-morning-service-10/2025-05-03/
CATEGORIES:Worship
END:VEVENT
BEGIN:VEVENT
DTSTART;TZID=America/New_York:20250503T090000
DTEND;TZID=America/New_York:20250503T100000
DTSTAMP:20260423T084203
CREATED:20241120T032844Z
LAST-MODIFIED:20241120T032844Z
UID:10004599-1746262800-1746266400@templeemanuelpgh.org
SUMMARY:Torah Study
DESCRIPTION:Saturday morning Torah Study with Rabbi Aaron Meyer will be offered in person at Temple and via Zoom video-conference. Zoom access can be found by clicking here.
URL:https://templeemanuelpgh.org/event/torah-study-14/2025-05-03/
CATEGORIES:Adult Education
END:VEVENT
BEGIN:VEVENT
DTSTART;TZID=America/New_York:20250503T200000
DTEND;TZID=America/New_York:20250503T201500
DTSTAMP:20260423T084203
CREATED:20241120T033406Z
LAST-MODIFIED:20241120T033406Z
UID:10004853-1746302400-1746303300@templeemanuelpgh.org
SUMMARY:Havdalah
DESCRIPTION:Join us virtually for Havdalah on Temple’s Facebook page.
URL:https://templeemanuelpgh.org/event/havdalah-12/2025-05-03/
CATEGORIES:Worship
END:VEVENT
BEGIN:VEVENT
DTSTART;TZID=America/New_York:20250504T093000
DTEND;TZID=America/New_York:20250504T101500
DTSTAMP:20260423T084203
CREATED:20241120T033655Z
LAST-MODIFIED:20260412T131916Z
UID:10005108-1746351000-1746353700@templeemanuelpgh.org
SUMMARY:Sunday Morning Minyan
DESCRIPTION:All are welcome to join this casual\, brief\, lay-led service. Join in person in the Beit HaT’filah or online via Zoom. This is a great opportunity to become familiar with the service and with Hebrew\, to meet other members\, and to say Kaddish.
URL:https://templeemanuelpgh.org/event/sunday-morning-minyan-12/2025-05-04/
CATEGORIES:Worship
END:VEVENT
BEGIN:VEVENT
DTSTART;TZID=America/New_York:20250504T140000
DTEND;TZID=America/New_York:20250504T160000
DTSTAMP:20260423T084203
CREATED:20250330T152153Z
LAST-MODIFIED:20250330T153219Z
UID:10005461-1746367200-1746374400@templeemanuelpgh.org
SUMMARY:Play Mahj!
DESCRIPTION:Join in for table games of Mahjong at Temple. RSVP to Sarah.
URL:https://templeemanuelpgh.org/event/play-mahj-7/2025-05-04/
END:VEVENT
BEGIN:VEVENT
DTSTART;TZID=America/New_York:20250505T190000
DTEND;TZID=America/New_York:20250505T203000
DTSTAMP:20260423T084203
CREATED:20250424T061340Z
LAST-MODIFIED:20250424T061340Z
UID:10005476-1746471600-1746477000@templeemanuelpgh.org
SUMMARY:Giving2Grow Annual Meeting held at Temple Emanuel
DESCRIPTION:The latest figures show there are more than 106\,000 children in our area who are food insecure.  Imagine not having enough food to feed your kids or sending your kids to school hungry…it is heartbreaking. But what can be done? Giving2Grow is a local giving circle of nearly 130 members who are concerned about this problem. Members pool their contributions to make grants to local organizations that are working hard to alleviate the problem of childhood hunger. \nTemple Emanuel is proud to host Giving2Grow’s annual meeting again this year.   The Temple Emanuel congregation and friends are cordially invited to attend\, learn more about Giving2Grow\, and hear from this year’s grant recipients about the inspiring work they are doing. You are welcome to come\, listen and learn! Please email Sue Gove if you would like to attend\, and with any questions you may have. 
URL:https://templeemanuelpgh.org/event/giving2grow-annual-meeting-held-at-temple-emanuel/
END:VEVENT
BEGIN:VEVENT
DTSTART;TZID=America/New_York:20250506T080000
DTEND;TZID=America/New_York:20250506T120000
DTSTAMP:20260423T084203
CREATED:20250505T121259Z
LAST-MODIFIED:20250505T121259Z
UID:10005477-1746518400-1746532800@templeemanuelpgh.org
SUMMARY:Plant Sale Volunteers Needed!
DESCRIPTION:Due to the amazing response\, we need help sorting plants by order on Tuesday\, May 6th so that the orders will be ready for pick-up by noon. Come dressed to work outside and get in your morning workout of bending and light lifting! RSVP to Sarah Mangan if you are available to help.
URL:https://templeemanuelpgh.org/event/plant-sale-volunteers-needed/
END:VEVENT
BEGIN:VEVENT
DTSTART;TZID=America/New_York:20250506T120000
DTEND;TZID=America/New_York:20250506T200000
DTSTAMP:20260423T084203
CREATED:20250505T121538Z
LAST-MODIFIED:20250505T121538Z
UID:10005478-1746532800-1746561600@templeemanuelpgh.org
SUMMARY:Plant Sale Pickup
DESCRIPTION:Self-serve pickup available in the courtyard for plant sale orders. If you ordered vegetables and/or herbs\, please plan to pick up your order on 5/6 as we can’t protect them from rabbits and deer overnight.
URL:https://templeemanuelpgh.org/event/plant-sale-pickup/
END:VEVENT
BEGIN:VEVENT
DTSTART;TZID=America/New_York:20250509T130000
DTEND;TZID=America/New_York:20250509T134500
DTSTAMP:20260423T084203
CREATED:20241120T032034Z
LAST-MODIFIED:20251001T160749Z
UID:10004092-1746795600-1746798300@templeemanuelpgh.org
SUMMARY:Friday Afternoon Text Study
DESCRIPTION:Have you ever wondered what comes after the Torah? The Hebrew Bible\, also known as the TaNaCh\, consists of Torah (Ta)\, Prophets (Na)\, and Writings (Ch)\, telling the stories of the kings of Israel\, prophets and judges. Jews are often experts in the “Ta” but not the “NaCh” – until now! Join Rabbi Meyer for a 45-minute exploration of these “NaCh” texts on Zoom by clicking here.
URL:https://templeemanuelpgh.org/event/friday-afternoon-torah-study-8/2025-05-09/
CATEGORIES:Adult Education
END:VEVENT
BEGIN:VEVENT
DTSTART;TZID=America/New_York:20250510T083000
DTEND;TZID=America/New_York:20250510T090000
DTSTAMP:20260423T084203
CREATED:20241120T032406Z
LAST-MODIFIED:20241120T032406Z
UID:10004346-1746865800-1746867600@templeemanuelpgh.org
SUMMARY:Virtual Shabbat Morning Service
DESCRIPTION:Our Shabbat morning videos will be released on Facebook and YouTube. One will include the traditional first Aliyah from our Sefer Torah in Hebrew and translation\, and a brief exposition of how the themes and lessons of the parasha (Torah portion) relate to our modern lives.
URL:https://templeemanuelpgh.org/event/virtual-shabbat-morning-service-10/2025-05-10/
CATEGORIES:Worship
END:VEVENT
BEGIN:VEVENT
DTSTART;TZID=America/New_York:20250510T090000
DTEND;TZID=America/New_York:20250510T100000
DTSTAMP:20260423T084203
CREATED:20241120T032844Z
LAST-MODIFIED:20241120T032844Z
UID:10004600-1746867600-1746871200@templeemanuelpgh.org
SUMMARY:Torah Study
DESCRIPTION:Saturday morning Torah Study with Rabbi Aaron Meyer will be offered in person at Temple and via Zoom video-conference. Zoom access can be found by clicking here.
URL:https://templeemanuelpgh.org/event/torah-study-14/2025-05-10/
CATEGORIES:Adult Education
END:VEVENT
BEGIN:VEVENT
DTSTART;TZID=America/New_York:20250510T200000
DTEND;TZID=America/New_York:20250510T201500
DTSTAMP:20260423T084203
CREATED:20241120T033406Z
LAST-MODIFIED:20241120T033406Z
UID:10004854-1746907200-1746908100@templeemanuelpgh.org
SUMMARY:Havdalah
DESCRIPTION:Join us virtually for Havdalah on Temple’s Facebook page.
URL:https://templeemanuelpgh.org/event/havdalah-12/2025-05-10/
CATEGORIES:Worship
END:VEVENT
BEGIN:VEVENT
DTSTART;TZID=America/New_York:20250511T093000
DTEND;TZID=America/New_York:20250511T101500
DTSTAMP:20260423T084203
CREATED:20241120T033655Z
LAST-MODIFIED:20260412T131916Z
UID:10005109-1746955800-1746958500@templeemanuelpgh.org
SUMMARY:Sunday Morning Minyan
DESCRIPTION:All are welcome to join this casual\, brief\, lay-led service. Join in person in the Beit HaT’filah or online via Zoom. This is a great opportunity to become familiar with the service and with Hebrew\, to meet other members\, and to say Kaddish.
URL:https://templeemanuelpgh.org/event/sunday-morning-minyan-12/2025-05-11/
CATEGORIES:Worship
END:VEVENT
BEGIN:VEVENT
DTSTART;TZID=America/New_York:20250512T190000
DTEND;TZID=America/New_York:20250512T200000
DTSTAMP:20260423T084203
CREATED:20250505T122117Z
LAST-MODIFIED:20250505T122117Z
UID:10005479-1747076400-1747080000@templeemanuelpgh.org
SUMMARY:Community Conversation: Open Budget Meeting
DESCRIPTION:Join us for a Community Conversation to learn more about Temple’s 2025-2026 budget! For organizations like Temple Emanuel\, budgets can be understood as strategic documents\, setting forth the priorities of the organization. Join Steve Del to learn more about our priorities for the coming year and how Temple generates and uses money to support our mission and vision.
URL:https://templeemanuelpgh.org/event/community-conversation-open-budget-meeting/
ATTACH;FMTTYPE=image/png:https://templeemanuelpgh.org/wp-content/uploads/2025/05/0af0b288-a353-a2e9-f164-70ee5e6ff1a9.png
END:VEVENT
BEGIN:VEVENT
DTSTART;TZID=America/New_York:20250516T130000
DTEND;TZID=America/New_York:20250516T134500
DTSTAMP:20260423T084203
CREATED:20241120T032034Z
LAST-MODIFIED:20251001T160749Z
UID:10004093-1747400400-1747403100@templeemanuelpgh.org
SUMMARY:Friday Afternoon Text Study
DESCRIPTION:Have you ever wondered what comes after the Torah? The Hebrew Bible\, also known as the TaNaCh\, consists of Torah (Ta)\, Prophets (Na)\, and Writings (Ch)\, telling the stories of the kings of Israel\, prophets and judges. Jews are often experts in the “Ta” but not the “NaCh” – until now! Join Rabbi Meyer for a 45-minute exploration of these “NaCh” texts on Zoom by clicking here.
URL:https://templeemanuelpgh.org/event/friday-afternoon-torah-study-8/2025-05-16/
CATEGORIES:Adult Education
END:VEVENT
BEGIN:VEVENT
DTSTART;TZID=America/New_York:20250516T173000
DTEND;TZID=America/New_York:20250516T190000
DTSTAMP:20260423T084203
CREATED:20250330T153614Z
LAST-MODIFIED:20250330T153909Z
UID:10005463-1747416600-1747422000@templeemanuelpgh.org
SUMMARY:KIDdish Club
DESCRIPTION:Join us for our monthly Shabbat service for families with children 0-6 years old! RSVP here!
URL:https://templeemanuelpgh.org/event/kiddish-club-5/
END:VEVENT
BEGIN:VEVENT
DTSTART;TZID=America/New_York:20250517T083000
DTEND;TZID=America/New_York:20250517T090000
DTSTAMP:20260423T084203
CREATED:20241120T032406Z
LAST-MODIFIED:20241120T032406Z
UID:10004347-1747470600-1747472400@templeemanuelpgh.org
SUMMARY:Virtual Shabbat Morning Service
DESCRIPTION:Our Shabbat morning videos will be released on Facebook and YouTube. One will include the traditional first Aliyah from our Sefer Torah in Hebrew and translation\, and a brief exposition of how the themes and lessons of the parasha (Torah portion) relate to our modern lives.
URL:https://templeemanuelpgh.org/event/virtual-shabbat-morning-service-10/2025-05-17/
CATEGORIES:Worship
END:VEVENT
BEGIN:VEVENT
DTSTART;TZID=America/New_York:20250517T090000
DTEND;TZID=America/New_York:20250517T100000
DTSTAMP:20260423T084203
CREATED:20241120T032844Z
LAST-MODIFIED:20241120T032844Z
UID:10004601-1747472400-1747476000@templeemanuelpgh.org
SUMMARY:Torah Study
DESCRIPTION:Saturday morning Torah Study with Rabbi Aaron Meyer will be offered in person at Temple and via Zoom video-conference. Zoom access can be found by clicking here.
URL:https://templeemanuelpgh.org/event/torah-study-14/2025-05-17/
CATEGORIES:Adult Education
END:VEVENT
BEGIN:VEVENT
DTSTART;TZID=America/New_York:20250517T163000
DTEND;TZID=America/New_York:20250517T180000
DTSTAMP:20260423T084203
CREATED:20240910T010224Z
LAST-MODIFIED:20240910T010224Z
UID:10003723-1747499400-1747504800@templeemanuelpgh.org
SUMMARY:Havdalah Hangout
DESCRIPTION:RSVP to Steph McFerron
URL:https://templeemanuelpgh.org/event/havdalah-hangout/2025-05-17/
LOCATION:Library
END:VEVENT
BEGIN:VEVENT
DTSTART;TZID=America/New_York:20250517T200000
DTEND;TZID=America/New_York:20250517T201500
DTSTAMP:20260423T084203
CREATED:20241120T033406Z
LAST-MODIFIED:20241120T033406Z
UID:10004855-1747512000-1747512900@templeemanuelpgh.org
SUMMARY:Havdalah
DESCRIPTION:Join us virtually for Havdalah on Temple’s Facebook page.
URL:https://templeemanuelpgh.org/event/havdalah-12/2025-05-17/
CATEGORIES:Worship
END:VEVENT
BEGIN:VEVENT
DTSTART;TZID=America/New_York:20250518T093000
DTEND;TZID=America/New_York:20250518T101500
DTSTAMP:20260423T084203
CREATED:20241120T033655Z
LAST-MODIFIED:20260412T131916Z
UID:10005110-1747560600-1747563300@templeemanuelpgh.org
SUMMARY:Sunday Morning Minyan
DESCRIPTION:All are welcome to join this casual\, brief\, lay-led service. Join in person in the Beit HaT’filah or online via Zoom. This is a great opportunity to become familiar with the service and with Hebrew\, to meet other members\, and to say Kaddish.
URL:https://templeemanuelpgh.org/event/sunday-morning-minyan-12/2025-05-18/
CATEGORIES:Worship
END:VEVENT
BEGIN:VEVENT
DTSTART;TZID=America/New_York:20250518T160000
DTEND;TZID=America/New_York:20250518T180000
DTSTAMP:20260423T084203
CREATED:20250505T123354Z
LAST-MODIFIED:20250505T123354Z
UID:10005480-1747584000-1747591200@templeemanuelpgh.org
SUMMARY:Abraham's Table Picnic
DESCRIPTION:After three heartfelt sessions of our Abrahamʼs Table Talking Series\, hosted by the faith communities of Turkish Cultural Center Pittsburgh\, Temple Emanuel\, and St. Paulʼs Episcopal Church\, we are coming together to celebrate our unity and friendship at the Abrahamʼs Table Picnic! \nWe warmly invite local faith communities and their members to join us for this special event. Join us for an afternoon filled with delicious food\, uplifting conversations\, and community spirit. This is a time to reconnect\, reflect\, and rejoice in the power of togetherness. \nAll are welcome — bring your friends\, family\, and a joyful heart! RSVP Here: Abraham’s Table Picnic RSVP
URL:https://templeemanuelpgh.org/event/abrahams-table-picnic/
END:VEVENT
BEGIN:VEVENT
DTSTART;TZID=America/New_York:20250520T130000
DTEND;TZID=America/New_York:20250520T133000
DTSTAMP:20260423T084203
CREATED:20241105T171112Z
LAST-MODIFIED:20250120T150316Z
UID:10005363-1747746000-1747747800@templeemanuelpgh.org
SUMMARY:Team Sandwich
DESCRIPTION:Join us to address food insecurity in the Pittsburgh region by making and donating sandwiches every third Tuesday of the month. Drop-off is between 1:00 and 1:30 pm\, but feel free to drop them off at a time that is convenient for you. Email Susie Hommel to sign up and learn more!
URL:https://templeemanuelpgh.org/event/team-sandwich-4/2025-05-20/
CATEGORIES:Social Action
END:VEVENT
BEGIN:VEVENT
DTSTART;TZID=America/New_York:20250523T130000
DTEND;TZID=America/New_York:20250523T134500
DTSTAMP:20260423T084203
CREATED:20241120T032034Z
LAST-MODIFIED:20251001T160749Z
UID:10004094-1748005200-1748007900@templeemanuelpgh.org
SUMMARY:Friday Afternoon Text Study
DESCRIPTION:Have you ever wondered what comes after the Torah? The Hebrew Bible\, also known as the TaNaCh\, consists of Torah (Ta)\, Prophets (Na)\, and Writings (Ch)\, telling the stories of the kings of Israel\, prophets and judges. Jews are often experts in the “Ta” but not the “NaCh” – until now! Join Rabbi Meyer for a 45-minute exploration of these “NaCh” texts on Zoom by clicking here.
URL:https://templeemanuelpgh.org/event/friday-afternoon-torah-study-8/2025-05-23/
CATEGORIES:Adult Education
END:VEVENT
BEGIN:VEVENT
DTSTART;TZID=America/New_York:20250524T083000
DTEND;TZID=America/New_York:20250524T090000
DTSTAMP:20260423T084203
CREATED:20241120T032406Z
LAST-MODIFIED:20241120T032406Z
UID:10004348-1748075400-1748077200@templeemanuelpgh.org
SUMMARY:Virtual Shabbat Morning Service
DESCRIPTION:Our Shabbat morning videos will be released on Facebook and YouTube. One will include the traditional first Aliyah from our Sefer Torah in Hebrew and translation\, and a brief exposition of how the themes and lessons of the parasha (Torah portion) relate to our modern lives.
URL:https://templeemanuelpgh.org/event/virtual-shabbat-morning-service-10/2025-05-24/
CATEGORIES:Worship
END:VEVENT
BEGIN:VEVENT
DTSTART;TZID=America/New_York:20250524T090000
DTEND;TZID=America/New_York:20250524T100000
DTSTAMP:20260423T084203
CREATED:20241120T032844Z
LAST-MODIFIED:20241120T032844Z
UID:10004602-1748077200-1748080800@templeemanuelpgh.org
SUMMARY:Torah Study
DESCRIPTION:Saturday morning Torah Study with Rabbi Aaron Meyer will be offered in person at Temple and via Zoom video-conference. Zoom access can be found by clicking here.
URL:https://templeemanuelpgh.org/event/torah-study-14/2025-05-24/
CATEGORIES:Adult Education
END:VEVENT
BEGIN:VEVENT
DTSTART;TZID=America/New_York:20250524T200000
DTEND;TZID=America/New_York:20250524T201500
DTSTAMP:20260423T084203
CREATED:20241120T033406Z
LAST-MODIFIED:20241120T033406Z
UID:10004856-1748116800-1748117700@templeemanuelpgh.org
SUMMARY:Havdalah
DESCRIPTION:Join us virtually for Havdalah on Temple’s Facebook page.
URL:https://templeemanuelpgh.org/event/havdalah-12/2025-05-24/
CATEGORIES:Worship
END:VEVENT
BEGIN:VEVENT
DTSTART;TZID=America/New_York:20250525T093000
DTEND;TZID=America/New_York:20250525T101500
DTSTAMP:20260423T084203
CREATED:20241120T033655Z
LAST-MODIFIED:20260412T131916Z
UID:10005111-1748165400-1748168100@templeemanuelpgh.org
SUMMARY:Sunday Morning Minyan
DESCRIPTION:All are welcome to join this casual\, brief\, lay-led service. Join in person in the Beit HaT’filah or online via Zoom. This is a great opportunity to become familiar with the service and with Hebrew\, to meet other members\, and to say Kaddish.
URL:https://templeemanuelpgh.org/event/sunday-morning-minyan-12/2025-05-25/
CATEGORIES:Worship
END:VEVENT
BEGIN:VEVENT
DTSTART;TZID=America/New_York:20250526T100000
DTEND;TZID=America/New_York:20250526T120000
DTSTAMP:20260423T084203
CREATED:20250325T135725Z
LAST-MODIFIED:20250325T135725Z
UID:10005453-1748253600-1748260800@templeemanuelpgh.org
SUMMARY:Annual Memorial Day Bagel Brunch
DESCRIPTION:Join us for our annual Memorial Day Bagel Brunch for bagels\, refreshments\, and yard games! RSVP using the form below. \nLocation provided in Temple Happenings mailings. To request to be added to our mailing list\, email Sarah. \nOops! We could not locate your form. \nIn honor of Veterans\, we are collecting supplies for Fisher House and Veterans Place. The items most needed include: \nToiletries; toilet paper; to-go coffee cups and lids; disposable plates\, bowls\, and utensils; Ziploc bags; underwear; socks; and sweatshirts and sweatpants in sizes L-2XL. Monetary donations are also welcome!
URL:https://templeemanuelpgh.org/event/bagelbrunch2025/
CATEGORIES:Featured
ATTACH;FMTTYPE=image/png:https://templeemanuelpgh.org/wp-content/uploads/2025/03/Join-us-for-our-annual-Memorial-Day-Picnic-for-bagels-refreshments-and-yard-games.png
END:VEVENT
END:VCALENDAR