BEGIN:VCALENDAR
VERSION:2.0
PRODID:-//Temple Emanuel - ECPv6.15.20//NONSGML v1.0//EN
CALSCALE:GREGORIAN
METHOD:PUBLISH
X-ORIGINAL-URL:https://templeemanuelpgh.org
X-WR-CALDESC:Events for Temple Emanuel
REFRESH-INTERVAL;VALUE=DURATION:PT1H
X-Robots-Tag:noindex
X-PUBLISHED-TTL:PT1H
BEGIN:VTIMEZONE
TZID:America/New_York
BEGIN:DAYLIGHT
TZOFFSETFROM:-0500
TZOFFSETTO:-0400
TZNAME:EDT
DTSTART:20240310T070000
END:DAYLIGHT
BEGIN:STANDARD
TZOFFSETFROM:-0400
TZOFFSETTO:-0500
TZNAME:EST
DTSTART:20241103T060000
END:STANDARD
BEGIN:DAYLIGHT
TZOFFSETFROM:-0500
TZOFFSETTO:-0400
TZNAME:EDT
DTSTART:20250309T070000
END:DAYLIGHT
BEGIN:STANDARD
TZOFFSETFROM:-0400
TZOFFSETTO:-0500
TZNAME:EST
DTSTART:20251102T060000
END:STANDARD
BEGIN:DAYLIGHT
TZOFFSETFROM:-0500
TZOFFSETTO:-0400
TZNAME:EDT
DTSTART:20260308T070000
END:DAYLIGHT
BEGIN:STANDARD
TZOFFSETFROM:-0400
TZOFFSETTO:-0500
TZNAME:EST
DTSTART:20261101T060000
END:STANDARD
BEGIN:DAYLIGHT
TZOFFSETFROM:-0500
TZOFFSETTO:-0400
TZNAME:EDT
DTSTART:20270314T070000
END:DAYLIGHT
BEGIN:STANDARD
TZOFFSETFROM:-0400
TZOFFSETTO:-0500
TZNAME:EST
DTSTART:20271107T060000
END:STANDARD
END:VTIMEZONE
BEGIN:VEVENT
DTSTART;TZID=America/New_York:20251116T140000
DTEND;TZID=America/New_York:20251116T160000
DTSTAMP:20260421T115623
CREATED:20250902T131956Z
LAST-MODIFIED:20250902T131956Z
UID:10005822-1763301600-1763308800@templeemanuelpgh.org
SUMMARY:Mahjong
DESCRIPTION:Join in for table games of Mahjong. To learn more and RSVP\, email Sarah at smangan@templeemanuelpgh.org.
URL:https://templeemanuelpgh.org/event/mahjong-4/
CATEGORIES:WTE (Women+ of Temple Emanuel)
ATTACH;FMTTYPE=image/png:https://templeemanuelpgh.org/wp-content/uploads/2025/09/Screenshot-2025-09-02-091158.png
END:VEVENT
BEGIN:VEVENT
DTSTART;TZID=America/New_York:20251119T190000
DTEND;TZID=America/New_York:20251119T203000
DTSTAMP:20260421T115623
CREATED:20251015T155443Z
LAST-MODIFIED:20251015T155443Z
UID:10005892-1763578800-1763584200@templeemanuelpgh.org
SUMMARY:Women+ of Temple Emanuel Book Club
DESCRIPTION:RSVP to Sarah Mangan for the location.
URL:https://templeemanuelpgh.org/event/women-of-temple-emanuel-book-club/
CATEGORIES:WTE (Women+ of Temple Emanuel)
ATTACH;FMTTYPE=image/png:https://templeemanuelpgh.org/wp-content/uploads/2025/10/Book-Club-3.png
END:VEVENT
BEGIN:VEVENT
DTSTART;TZID=America/New_York:20260201T183000
DTEND;TZID=America/New_York:20260201T203000
DTSTAMP:20260421T115623
CREATED:20260121T141602Z
LAST-MODIFIED:20260121T141817Z
UID:10005995-1769970600-1769977800@templeemanuelpgh.org
SUMMARY:WTE+ Tu Bishvat Seder
DESCRIPTION:Join Rabbi Emily Meyer and the Women+ of Temple Emanuel for a Tu Bishvat Seder.\nCome enjoy a thoughtful and interactive experience with a light meal at Anthos in Castle Shannon. \nRSVP \n 
URL:https://templeemanuelpgh.org/event/wte-tu-bishvat-seder/
CATEGORIES:WTE (Women+ of Temple Emanuel)
ATTACH;FMTTYPE=image/png:https://templeemanuelpgh.org/wp-content/uploads/2026/01/Screenshot-2026-01-21-091516.png
END:VEVENT
END:VCALENDAR