BEGIN:VCALENDAR
VERSION:2.0
PRODID:-//Temple Emanuel - ECPv6.15.20//NONSGML v1.0//EN
CALSCALE:GREGORIAN
METHOD:PUBLISH
X-ORIGINAL-URL:https://templeemanuelpgh.org
X-WR-CALDESC:Events for Temple Emanuel
REFRESH-INTERVAL;VALUE=DURATION:PT1H
X-Robots-Tag:noindex
X-PUBLISHED-TTL:PT1H
BEGIN:VTIMEZONE
TZID:America/New_York
BEGIN:DAYLIGHT
TZOFFSETFROM:-0500
TZOFFSETTO:-0400
TZNAME:EDT
DTSTART:20220313T070000
END:DAYLIGHT
BEGIN:STANDARD
TZOFFSETFROM:-0400
TZOFFSETTO:-0500
TZNAME:EST
DTSTART:20221106T060000
END:STANDARD
BEGIN:DAYLIGHT
TZOFFSETFROM:-0500
TZOFFSETTO:-0400
TZNAME:EDT
DTSTART:20230312T070000
END:DAYLIGHT
BEGIN:STANDARD
TZOFFSETFROM:-0400
TZOFFSETTO:-0500
TZNAME:EST
DTSTART:20231105T060000
END:STANDARD
BEGIN:DAYLIGHT
TZOFFSETFROM:-0500
TZOFFSETTO:-0400
TZNAME:EDT
DTSTART:20240310T070000
END:DAYLIGHT
BEGIN:STANDARD
TZOFFSETFROM:-0400
TZOFFSETTO:-0500
TZNAME:EST
DTSTART:20241103T060000
END:STANDARD
END:VTIMEZONE
BEGIN:VEVENT
DTSTART;TZID=America/New_York:20231121T190000
DTEND;TZID=America/New_York:20231121T200000
DTSTAMP:20260422T162648
CREATED:20231118T162605Z
LAST-MODIFIED:20231118T162639Z
UID:10003438-1700593200-1700596800@templeemanuelpgh.org
SUMMARY:Join us for the 57th Annual Interfaith Thanksgiving Service
DESCRIPTION:The service will draw from a Native American spiritual tradition known as the “Haudenosaunee Thanksgiving Address\,” which appears in Robin Wall Kimmerer’s 2013 bestseller Braiding Sweetgrass. The Haudenosaunee people (“Iroquois Confederacy”) make this document available to the public and encourage its distribution and use. Music\, refreshments\, and fellowship will round out the night. \n\nThis event is sponsored by Bower Hill Community Presbyterian Church\, First Baptist Church of Bridgeville\, Good Shepherd Lutheran Church\, Our Lady of Grace Catholic Church (St. Michael the Archangel Parish)\, Temple Emanuel of South Hills\, and South Hills Interfaith Movement “SHIM.” \n\nYou are encouraged to bring a nonperishable food item as a gift to our neighbors in need through South Hills Interfaith Movement.
URL:https://templeemanuelpgh.org/event/join-us-for-the-57th-annual-interfaith-thanksgiving-service/
CATEGORIES:Community Event,Featured
END:VEVENT
END:VCALENDAR