BEGIN:VCALENDAR
VERSION:2.0
PRODID:-//Temple Emanuel - ECPv6.15.20//NONSGML v1.0//EN
CALSCALE:GREGORIAN
METHOD:PUBLISH
X-WR-CALNAME:Temple Emanuel
X-ORIGINAL-URL:https://templeemanuelpgh.org
X-WR-CALDESC:Events for Temple Emanuel
REFRESH-INTERVAL;VALUE=DURATION:PT1H
X-Robots-Tag:noindex
X-PUBLISHED-TTL:PT1H
BEGIN:VTIMEZONE
TZID:America/New_York
BEGIN:DAYLIGHT
TZOFFSETFROM:-0500
TZOFFSETTO:-0400
TZNAME:EDT
DTSTART:20250309T070000
END:DAYLIGHT
BEGIN:STANDARD
TZOFFSETFROM:-0400
TZOFFSETTO:-0500
TZNAME:EST
DTSTART:20251102T060000
END:STANDARD
BEGIN:DAYLIGHT
TZOFFSETFROM:-0500
TZOFFSETTO:-0400
TZNAME:EDT
DTSTART:20260308T070000
END:DAYLIGHT
BEGIN:STANDARD
TZOFFSETFROM:-0400
TZOFFSETTO:-0500
TZNAME:EST
DTSTART:20261101T060000
END:STANDARD
BEGIN:DAYLIGHT
TZOFFSETFROM:-0500
TZOFFSETTO:-0400
TZNAME:EDT
DTSTART:20270314T070000
END:DAYLIGHT
BEGIN:STANDARD
TZOFFSETFROM:-0400
TZOFFSETTO:-0500
TZNAME:EST
DTSTART:20271107T060000
END:STANDARD
END:VTIMEZONE
BEGIN:VEVENT
DTSTART;TZID=America/New_York:20260214T090000
DTEND;TZID=America/New_York:20260214T100000
DTSTAMP:20260424T014226
CREATED:20241120T032844Z
LAST-MODIFIED:20241120T032844Z
UID:10004640-1771059600-1771063200@templeemanuelpgh.org
SUMMARY:Torah Study
DESCRIPTION:Saturday morning Torah Study with Rabbi Aaron Meyer will be offered in person at Temple and via Zoom video-conference. Zoom access can be found by clicking here.
URL:https://templeemanuelpgh.org/event/torah-study-14/2026-02-14/
CATEGORIES:Adult Education
END:VEVENT
BEGIN:VEVENT
DTSTART;TZID=America/New_York:20260220T130000
DTEND;TZID=America/New_York:20260220T134500
DTSTAMP:20260424T014226
CREATED:20241120T032034Z
LAST-MODIFIED:20251001T160749Z
UID:10004133-1771592400-1771595100@templeemanuelpgh.org
SUMMARY:Friday Afternoon Text Study
DESCRIPTION:Have you ever wondered what comes after the Torah? The Hebrew Bible\, also known as the TaNaCh\, consists of Torah (Ta)\, Prophets (Na)\, and Writings (Ch)\, telling the stories of the kings of Israel\, prophets and judges. Jews are often experts in the “Ta” but not the “NaCh” – until now! Join Rabbi Meyer for a 45-minute exploration of these “NaCh” texts on Zoom by clicking here.
URL:https://templeemanuelpgh.org/event/friday-afternoon-torah-study-8/2026-02-20/
CATEGORIES:Adult Education
END:VEVENT
BEGIN:VEVENT
DTSTART;TZID=America/New_York:20260221T090000
DTEND;TZID=America/New_York:20260221T100000
DTSTAMP:20260424T014226
CREATED:20241120T032844Z
LAST-MODIFIED:20241120T032844Z
UID:10004641-1771664400-1771668000@templeemanuelpgh.org
SUMMARY:Torah Study
DESCRIPTION:Saturday morning Torah Study with Rabbi Aaron Meyer will be offered in person at Temple and via Zoom video-conference. Zoom access can be found by clicking here.
URL:https://templeemanuelpgh.org/event/torah-study-14/2026-02-21/
CATEGORIES:Adult Education
END:VEVENT
BEGIN:VEVENT
DTSTART;TZID=America/New_York:20260227T130000
DTEND;TZID=America/New_York:20260227T134500
DTSTAMP:20260424T014226
CREATED:20241120T032034Z
LAST-MODIFIED:20251001T160749Z
UID:10004134-1772197200-1772199900@templeemanuelpgh.org
SUMMARY:Friday Afternoon Text Study
DESCRIPTION:Have you ever wondered what comes after the Torah? The Hebrew Bible\, also known as the TaNaCh\, consists of Torah (Ta)\, Prophets (Na)\, and Writings (Ch)\, telling the stories of the kings of Israel\, prophets and judges. Jews are often experts in the “Ta” but not the “NaCh” – until now! Join Rabbi Meyer for a 45-minute exploration of these “NaCh” texts on Zoom by clicking here.
URL:https://templeemanuelpgh.org/event/friday-afternoon-torah-study-8/2026-02-27/
CATEGORIES:Adult Education
END:VEVENT
BEGIN:VEVENT
DTSTART;TZID=America/New_York:20260228T090000
DTEND;TZID=America/New_York:20260228T100000
DTSTAMP:20260424T014226
CREATED:20241120T032844Z
LAST-MODIFIED:20241120T032844Z
UID:10004642-1772269200-1772272800@templeemanuelpgh.org
SUMMARY:Torah Study
DESCRIPTION:Saturday morning Torah Study with Rabbi Aaron Meyer will be offered in person at Temple and via Zoom video-conference. Zoom access can be found by clicking here.
URL:https://templeemanuelpgh.org/event/torah-study-14/2026-02-28/
CATEGORIES:Adult Education
END:VEVENT
BEGIN:VEVENT
DTSTART;TZID=America/New_York:20260306T130000
DTEND;TZID=America/New_York:20260306T134500
DTSTAMP:20260424T014226
CREATED:20241120T032034Z
LAST-MODIFIED:20251001T160749Z
UID:10004135-1772802000-1772804700@templeemanuelpgh.org
SUMMARY:Friday Afternoon Text Study
DESCRIPTION:Have you ever wondered what comes after the Torah? The Hebrew Bible\, also known as the TaNaCh\, consists of Torah (Ta)\, Prophets (Na)\, and Writings (Ch)\, telling the stories of the kings of Israel\, prophets and judges. Jews are often experts in the “Ta” but not the “NaCh” – until now! Join Rabbi Meyer for a 45-minute exploration of these “NaCh” texts on Zoom by clicking here.
URL:https://templeemanuelpgh.org/event/friday-afternoon-torah-study-8/2026-03-06/
CATEGORIES:Adult Education
END:VEVENT
BEGIN:VEVENT
DTSTART;TZID=America/New_York:20260307T090000
DTEND;TZID=America/New_York:20260307T100000
DTSTAMP:20260424T014226
CREATED:20241120T032844Z
LAST-MODIFIED:20241120T032844Z
UID:10004643-1772874000-1772877600@templeemanuelpgh.org
SUMMARY:Torah Study
DESCRIPTION:Saturday morning Torah Study with Rabbi Aaron Meyer will be offered in person at Temple and via Zoom video-conference. Zoom access can be found by clicking here.
URL:https://templeemanuelpgh.org/event/torah-study-14/2026-03-07/
CATEGORIES:Adult Education
END:VEVENT
BEGIN:VEVENT
DTSTART;TZID=America/New_York:20260308T130000
DTEND;TZID=America/New_York:20260308T140000
DTSTAMP:20260424T014226
CREATED:20260223T183546Z
LAST-MODIFIED:20260223T183546Z
UID:10006008-1772974800-1772978400@templeemanuelpgh.org
SUMMARY:Adult Hebrew Course
DESCRIPTION:Learn to read Hebrew with Torah Center instructor Melinda Freed! This eight-week course uses the text Alef Isn’t Tough and will meet every Sunday (with the exception of spring break) between March 8 and May 3. \nCost is $60 per person\, which includes the text Alef Isn’t Tough. \nClick here to register.
URL:https://templeemanuelpgh.org/event/adult-hebrew-course/2026-03-08/
CATEGORIES:Adult Education
ATTACH;FMTTYPE=image/png:https://templeemanuelpgh.org/wp-content/uploads/2026/02/Adult-Hebrew-Classes.png
END:VEVENT
BEGIN:VEVENT
DTSTART;TZID=America/New_York:20260309T130000
DTEND;TZID=America/New_York:20260309T140000
DTSTAMP:20260424T014226
CREATED:20260223T184915Z
LAST-MODIFIED:20260223T184915Z
UID:10006016-1773061200-1773064800@templeemanuelpgh.org
SUMMARY:Hand in Hand's Communities: Transforming Difference into Possibility (Webinar)
DESCRIPTION:In 2025\, we were fortunate to have Lee Gordon from the Hand-in-Hand schools in Israel share their important work with us on a Friday night. Two students from the school were recently invited to address the Knesset\, the Israeli parliament\, and their brief testimony gives hope that we can’t get from the day’s news. Join two of their educators for a webinar to learn more! \nRegister here.
URL:https://templeemanuelpgh.org/event/hand-in-hands-communities-transforming-difference-into-possibility-webinar/
CATEGORIES:Adult Education
ATTACH;FMTTYPE=image/png:https://templeemanuelpgh.org/wp-content/uploads/2026/02/Hand-in-Hand.png
END:VEVENT
BEGIN:VEVENT
DTSTART;TZID=America/New_York:20260313T130000
DTEND;TZID=America/New_York:20260313T134500
DTSTAMP:20260424T014226
CREATED:20241120T032034Z
LAST-MODIFIED:20251001T160749Z
UID:10004136-1773406800-1773409500@templeemanuelpgh.org
SUMMARY:Friday Afternoon Text Study
DESCRIPTION:Have you ever wondered what comes after the Torah? The Hebrew Bible\, also known as the TaNaCh\, consists of Torah (Ta)\, Prophets (Na)\, and Writings (Ch)\, telling the stories of the kings of Israel\, prophets and judges. Jews are often experts in the “Ta” but not the “NaCh” – until now! Join Rabbi Meyer for a 45-minute exploration of these “NaCh” texts on Zoom by clicking here.
URL:https://templeemanuelpgh.org/event/friday-afternoon-torah-study-8/2026-03-13/
CATEGORIES:Adult Education
END:VEVENT
BEGIN:VEVENT
DTSTART;TZID=America/New_York:20260314T090000
DTEND;TZID=America/New_York:20260314T100000
DTSTAMP:20260424T014226
CREATED:20241120T032844Z
LAST-MODIFIED:20241120T032844Z
UID:10004644-1773478800-1773482400@templeemanuelpgh.org
SUMMARY:Torah Study
DESCRIPTION:Saturday morning Torah Study with Rabbi Aaron Meyer will be offered in person at Temple and via Zoom video-conference. Zoom access can be found by clicking here.
URL:https://templeemanuelpgh.org/event/torah-study-14/2026-03-14/
CATEGORIES:Adult Education
END:VEVENT
BEGIN:VEVENT
DTSTART;TZID=America/New_York:20260315T130000
DTEND;TZID=America/New_York:20260315T140000
DTSTAMP:20260424T014226
CREATED:20260223T183546Z
LAST-MODIFIED:20260223T183546Z
UID:10006009-1773579600-1773583200@templeemanuelpgh.org
SUMMARY:Adult Hebrew Course
DESCRIPTION:Learn to read Hebrew with Torah Center instructor Melinda Freed! This eight-week course uses the text Alef Isn’t Tough and will meet every Sunday (with the exception of spring break) between March 8 and May 3. \nCost is $60 per person\, which includes the text Alef Isn’t Tough. \nClick here to register.
URL:https://templeemanuelpgh.org/event/adult-hebrew-course/2026-03-15/
CATEGORIES:Adult Education
ATTACH;FMTTYPE=image/png:https://templeemanuelpgh.org/wp-content/uploads/2026/02/Adult-Hebrew-Classes.png
END:VEVENT
BEGIN:VEVENT
DTSTART;TZID=America/New_York:20260320T130000
DTEND;TZID=America/New_York:20260320T134500
DTSTAMP:20260424T014226
CREATED:20241120T032034Z
LAST-MODIFIED:20251001T160749Z
UID:10004137-1774011600-1774014300@templeemanuelpgh.org
SUMMARY:Friday Afternoon Text Study
DESCRIPTION:Have you ever wondered what comes after the Torah? The Hebrew Bible\, also known as the TaNaCh\, consists of Torah (Ta)\, Prophets (Na)\, and Writings (Ch)\, telling the stories of the kings of Israel\, prophets and judges. Jews are often experts in the “Ta” but not the “NaCh” – until now! Join Rabbi Meyer for a 45-minute exploration of these “NaCh” texts on Zoom by clicking here.
URL:https://templeemanuelpgh.org/event/friday-afternoon-torah-study-8/2026-03-20/
CATEGORIES:Adult Education
END:VEVENT
BEGIN:VEVENT
DTSTART;TZID=America/New_York:20260321T090000
DTEND;TZID=America/New_York:20260321T100000
DTSTAMP:20260424T014226
CREATED:20241120T032844Z
LAST-MODIFIED:20241120T032844Z
UID:10004645-1774083600-1774087200@templeemanuelpgh.org
SUMMARY:Torah Study
DESCRIPTION:Saturday morning Torah Study with Rabbi Aaron Meyer will be offered in person at Temple and via Zoom video-conference. Zoom access can be found by clicking here.
URL:https://templeemanuelpgh.org/event/torah-study-14/2026-03-21/
CATEGORIES:Adult Education
END:VEVENT
BEGIN:VEVENT
DTSTART;TZID=America/New_York:20260322T130000
DTEND;TZID=America/New_York:20260322T140000
DTSTAMP:20260424T014226
CREATED:20260223T183546Z
LAST-MODIFIED:20260223T183546Z
UID:10006010-1774184400-1774188000@templeemanuelpgh.org
SUMMARY:Adult Hebrew Course
DESCRIPTION:Learn to read Hebrew with Torah Center instructor Melinda Freed! This eight-week course uses the text Alef Isn’t Tough and will meet every Sunday (with the exception of spring break) between March 8 and May 3. \nCost is $60 per person\, which includes the text Alef Isn’t Tough. \nClick here to register.
URL:https://templeemanuelpgh.org/event/adult-hebrew-course/2026-03-22/
CATEGORIES:Adult Education
ATTACH;FMTTYPE=image/png:https://templeemanuelpgh.org/wp-content/uploads/2026/02/Adult-Hebrew-Classes.png
END:VEVENT
BEGIN:VEVENT
DTSTART;TZID=America/New_York:20260327T130000
DTEND;TZID=America/New_York:20260327T134500
DTSTAMP:20260424T014226
CREATED:20241120T032034Z
LAST-MODIFIED:20251001T160749Z
UID:10004138-1774616400-1774619100@templeemanuelpgh.org
SUMMARY:Friday Afternoon Text Study
DESCRIPTION:Have you ever wondered what comes after the Torah? The Hebrew Bible\, also known as the TaNaCh\, consists of Torah (Ta)\, Prophets (Na)\, and Writings (Ch)\, telling the stories of the kings of Israel\, prophets and judges. Jews are often experts in the “Ta” but not the “NaCh” – until now! Join Rabbi Meyer for a 45-minute exploration of these “NaCh” texts on Zoom by clicking here.
URL:https://templeemanuelpgh.org/event/friday-afternoon-torah-study-8/2026-03-27/
CATEGORIES:Adult Education
END:VEVENT
BEGIN:VEVENT
DTSTART;TZID=America/New_York:20260328T090000
DTEND;TZID=America/New_York:20260328T100000
DTSTAMP:20260424T014226
CREATED:20241120T032844Z
LAST-MODIFIED:20241120T032844Z
UID:10004646-1774688400-1774692000@templeemanuelpgh.org
SUMMARY:Torah Study
DESCRIPTION:Saturday morning Torah Study with Rabbi Aaron Meyer will be offered in person at Temple and via Zoom video-conference. Zoom access can be found by clicking here.
URL:https://templeemanuelpgh.org/event/torah-study-14/2026-03-28/
CATEGORIES:Adult Education
END:VEVENT
BEGIN:VEVENT
DTSTART;TZID=America/New_York:20260329T130000
DTEND;TZID=America/New_York:20260329T140000
DTSTAMP:20260424T014226
CREATED:20260223T183546Z
LAST-MODIFIED:20260223T183546Z
UID:10006011-1774789200-1774792800@templeemanuelpgh.org
SUMMARY:Adult Hebrew Course
DESCRIPTION:Learn to read Hebrew with Torah Center instructor Melinda Freed! This eight-week course uses the text Alef Isn’t Tough and will meet every Sunday (with the exception of spring break) between March 8 and May 3. \nCost is $60 per person\, which includes the text Alef Isn’t Tough. \nClick here to register.
URL:https://templeemanuelpgh.org/event/adult-hebrew-course/2026-03-29/
CATEGORIES:Adult Education
ATTACH;FMTTYPE=image/png:https://templeemanuelpgh.org/wp-content/uploads/2026/02/Adult-Hebrew-Classes.png
END:VEVENT
BEGIN:VEVENT
DTSTART;TZID=America/New_York:20260403T130000
DTEND;TZID=America/New_York:20260403T134500
DTSTAMP:20260424T014226
CREATED:20241120T032034Z
LAST-MODIFIED:20251001T160749Z
UID:10004139-1775221200-1775223900@templeemanuelpgh.org
SUMMARY:Friday Afternoon Text Study
DESCRIPTION:Have you ever wondered what comes after the Torah? The Hebrew Bible\, also known as the TaNaCh\, consists of Torah (Ta)\, Prophets (Na)\, and Writings (Ch)\, telling the stories of the kings of Israel\, prophets and judges. Jews are often experts in the “Ta” but not the “NaCh” – until now! Join Rabbi Meyer for a 45-minute exploration of these “NaCh” texts on Zoom by clicking here.
URL:https://templeemanuelpgh.org/event/friday-afternoon-torah-study-8/2026-04-03/
CATEGORIES:Adult Education
END:VEVENT
BEGIN:VEVENT
DTSTART;TZID=America/New_York:20260404T090000
DTEND;TZID=America/New_York:20260404T100000
DTSTAMP:20260424T014226
CREATED:20241120T032844Z
LAST-MODIFIED:20241120T032844Z
UID:10004647-1775293200-1775296800@templeemanuelpgh.org
SUMMARY:Torah Study
DESCRIPTION:Saturday morning Torah Study with Rabbi Aaron Meyer will be offered in person at Temple and via Zoom video-conference. Zoom access can be found by clicking here.
URL:https://templeemanuelpgh.org/event/torah-study-14/2026-04-04/
CATEGORIES:Adult Education
END:VEVENT
BEGIN:VEVENT
DTSTART;TZID=America/New_York:20260410T130000
DTEND;TZID=America/New_York:20260410T134500
DTSTAMP:20260424T014226
CREATED:20241120T032034Z
LAST-MODIFIED:20251001T160749Z
UID:10004140-1775826000-1775828700@templeemanuelpgh.org
SUMMARY:Friday Afternoon Text Study
DESCRIPTION:Have you ever wondered what comes after the Torah? The Hebrew Bible\, also known as the TaNaCh\, consists of Torah (Ta)\, Prophets (Na)\, and Writings (Ch)\, telling the stories of the kings of Israel\, prophets and judges. Jews are often experts in the “Ta” but not the “NaCh” – until now! Join Rabbi Meyer for a 45-minute exploration of these “NaCh” texts on Zoom by clicking here.
URL:https://templeemanuelpgh.org/event/friday-afternoon-torah-study-8/2026-04-10/
CATEGORIES:Adult Education
END:VEVENT
BEGIN:VEVENT
DTSTART;TZID=America/New_York:20260411T090000
DTEND;TZID=America/New_York:20260411T100000
DTSTAMP:20260424T014226
CREATED:20241120T032844Z
LAST-MODIFIED:20241120T032844Z
UID:10004648-1775898000-1775901600@templeemanuelpgh.org
SUMMARY:Torah Study
DESCRIPTION:Saturday morning Torah Study with Rabbi Aaron Meyer will be offered in person at Temple and via Zoom video-conference. Zoom access can be found by clicking here.
URL:https://templeemanuelpgh.org/event/torah-study-14/2026-04-11/
CATEGORIES:Adult Education
END:VEVENT
BEGIN:VEVENT
DTSTART;TZID=America/New_York:20260412T130000
DTEND;TZID=America/New_York:20260412T140000
DTSTAMP:20260424T014226
CREATED:20260223T183546Z
LAST-MODIFIED:20260223T183546Z
UID:10006012-1775998800-1776002400@templeemanuelpgh.org
SUMMARY:Adult Hebrew Course
DESCRIPTION:Learn to read Hebrew with Torah Center instructor Melinda Freed! This eight-week course uses the text Alef Isn’t Tough and will meet every Sunday (with the exception of spring break) between March 8 and May 3. \nCost is $60 per person\, which includes the text Alef Isn’t Tough. \nClick here to register.
URL:https://templeemanuelpgh.org/event/adult-hebrew-course/2026-04-12/
CATEGORIES:Adult Education
ATTACH;FMTTYPE=image/png:https://templeemanuelpgh.org/wp-content/uploads/2026/02/Adult-Hebrew-Classes.png
END:VEVENT
BEGIN:VEVENT
DTSTART;TZID=America/New_York:20260417T130000
DTEND;TZID=America/New_York:20260417T134500
DTSTAMP:20260424T014226
CREATED:20241120T032034Z
LAST-MODIFIED:20251001T160749Z
UID:10004141-1776430800-1776433500@templeemanuelpgh.org
SUMMARY:Friday Afternoon Text Study
DESCRIPTION:Have you ever wondered what comes after the Torah? The Hebrew Bible\, also known as the TaNaCh\, consists of Torah (Ta)\, Prophets (Na)\, and Writings (Ch)\, telling the stories of the kings of Israel\, prophets and judges. Jews are often experts in the “Ta” but not the “NaCh” – until now! Join Rabbi Meyer for a 45-minute exploration of these “NaCh” texts on Zoom by clicking here.
URL:https://templeemanuelpgh.org/event/friday-afternoon-torah-study-8/2026-04-17/
CATEGORIES:Adult Education
END:VEVENT
BEGIN:VEVENT
DTSTART;TZID=America/New_York:20260418T090000
DTEND;TZID=America/New_York:20260418T100000
DTSTAMP:20260424T014226
CREATED:20241120T032844Z
LAST-MODIFIED:20241120T032844Z
UID:10004649-1776502800-1776506400@templeemanuelpgh.org
SUMMARY:Torah Study
DESCRIPTION:Saturday morning Torah Study with Rabbi Aaron Meyer will be offered in person at Temple and via Zoom video-conference. Zoom access can be found by clicking here.
URL:https://templeemanuelpgh.org/event/torah-study-14/2026-04-18/
CATEGORIES:Adult Education
END:VEVENT
BEGIN:VEVENT
DTSTART;TZID=America/New_York:20260419T130000
DTEND;TZID=America/New_York:20260419T140000
DTSTAMP:20260424T014226
CREATED:20260223T183546Z
LAST-MODIFIED:20260223T183546Z
UID:10006013-1776603600-1776607200@templeemanuelpgh.org
SUMMARY:Adult Hebrew Course
DESCRIPTION:Learn to read Hebrew with Torah Center instructor Melinda Freed! This eight-week course uses the text Alef Isn’t Tough and will meet every Sunday (with the exception of spring break) between March 8 and May 3. \nCost is $60 per person\, which includes the text Alef Isn’t Tough. \nClick here to register.
URL:https://templeemanuelpgh.org/event/adult-hebrew-course/2026-04-19/
CATEGORIES:Adult Education
ATTACH;FMTTYPE=image/png:https://templeemanuelpgh.org/wp-content/uploads/2026/02/Adult-Hebrew-Classes.png
END:VEVENT
BEGIN:VEVENT
DTSTART;TZID=America/New_York:20260424T130000
DTEND;TZID=America/New_York:20260424T134500
DTSTAMP:20260424T014226
CREATED:20241120T032034Z
LAST-MODIFIED:20251001T160749Z
UID:10004142-1777035600-1777038300@templeemanuelpgh.org
SUMMARY:Friday Afternoon Text Study
DESCRIPTION:Have you ever wondered what comes after the Torah? The Hebrew Bible\, also known as the TaNaCh\, consists of Torah (Ta)\, Prophets (Na)\, and Writings (Ch)\, telling the stories of the kings of Israel\, prophets and judges. Jews are often experts in the “Ta” but not the “NaCh” – until now! Join Rabbi Meyer for a 45-minute exploration of these “NaCh” texts on Zoom by clicking here.
URL:https://templeemanuelpgh.org/event/friday-afternoon-torah-study-8/2026-04-24/
CATEGORIES:Adult Education
END:VEVENT
BEGIN:VEVENT
DTSTART;TZID=America/New_York:20260425T090000
DTEND;TZID=America/New_York:20260425T100000
DTSTAMP:20260424T014226
CREATED:20241120T032844Z
LAST-MODIFIED:20241120T032844Z
UID:10004650-1777107600-1777111200@templeemanuelpgh.org
SUMMARY:Torah Study
DESCRIPTION:Saturday morning Torah Study with Rabbi Aaron Meyer will be offered in person at Temple and via Zoom video-conference. Zoom access can be found by clicking here.
URL:https://templeemanuelpgh.org/event/torah-study-14/2026-04-25/
CATEGORIES:Adult Education
END:VEVENT
BEGIN:VEVENT
DTSTART;TZID=America/New_York:20260426T130000
DTEND;TZID=America/New_York:20260426T140000
DTSTAMP:20260424T014226
CREATED:20260223T183546Z
LAST-MODIFIED:20260223T183546Z
UID:10006014-1777208400-1777212000@templeemanuelpgh.org
SUMMARY:Adult Hebrew Course
DESCRIPTION:Learn to read Hebrew with Torah Center instructor Melinda Freed! This eight-week course uses the text Alef Isn’t Tough and will meet every Sunday (with the exception of spring break) between March 8 and May 3. \nCost is $60 per person\, which includes the text Alef Isn’t Tough. \nClick here to register.
URL:https://templeemanuelpgh.org/event/adult-hebrew-course/2026-04-26/
CATEGORIES:Adult Education
ATTACH;FMTTYPE=image/png:https://templeemanuelpgh.org/wp-content/uploads/2026/02/Adult-Hebrew-Classes.png
END:VEVENT
BEGIN:VEVENT
DTSTART;TZID=America/New_York:20260501T130000
DTEND;TZID=America/New_York:20260501T134500
DTSTAMP:20260424T014226
CREATED:20241120T032034Z
LAST-MODIFIED:20251001T160749Z
UID:10004143-1777640400-1777643100@templeemanuelpgh.org
SUMMARY:Friday Afternoon Text Study
DESCRIPTION:Have you ever wondered what comes after the Torah? The Hebrew Bible\, also known as the TaNaCh\, consists of Torah (Ta)\, Prophets (Na)\, and Writings (Ch)\, telling the stories of the kings of Israel\, prophets and judges. Jews are often experts in the “Ta” but not the “NaCh” – until now! Join Rabbi Meyer for a 45-minute exploration of these “NaCh” texts on Zoom by clicking here.
URL:https://templeemanuelpgh.org/event/friday-afternoon-torah-study-8/2026-05-01/
CATEGORIES:Adult Education
END:VEVENT
END:VCALENDAR