BEGIN:VCALENDAR
VERSION:2.0
PRODID:-//Temple Emanuel - ECPv6.15.20//NONSGML v1.0//EN
CALSCALE:GREGORIAN
METHOD:PUBLISH
X-WR-CALNAME:Temple Emanuel
X-ORIGINAL-URL:https://templeemanuelpgh.org
X-WR-CALDESC:Events for Temple Emanuel
REFRESH-INTERVAL;VALUE=DURATION:PT1H
X-Robots-Tag:noindex
X-PUBLISHED-TTL:PT1H
BEGIN:VTIMEZONE
TZID:America/New_York
BEGIN:DAYLIGHT
TZOFFSETFROM:-0500
TZOFFSETTO:-0400
TZNAME:EDT
DTSTART:20260308T070000
END:DAYLIGHT
BEGIN:STANDARD
TZOFFSETFROM:-0400
TZOFFSETTO:-0500
TZNAME:EST
DTSTART:20261101T060000
END:STANDARD
BEGIN:DAYLIGHT
TZOFFSETFROM:-0500
TZOFFSETTO:-0400
TZNAME:EDT
DTSTART:20270314T070000
END:DAYLIGHT
BEGIN:STANDARD
TZOFFSETFROM:-0400
TZOFFSETTO:-0500
TZNAME:EST
DTSTART:20271107T060000
END:STANDARD
BEGIN:DAYLIGHT
TZOFFSETFROM:-0500
TZOFFSETTO:-0400
TZNAME:EDT
DTSTART:20280312T070000
END:DAYLIGHT
BEGIN:STANDARD
TZOFFSETFROM:-0400
TZOFFSETTO:-0500
TZNAME:EST
DTSTART:20281105T060000
END:STANDARD
END:VTIMEZONE
BEGIN:VEVENT
DTSTART;TZID=America/New_York:20270402T130000
DTEND;TZID=America/New_York:20270402T134500
DTSTAMP:20260423T102957
CREATED:20241120T032034Z
LAST-MODIFIED:20251001T160749Z
UID:10004191-1806670800-1806673500@templeemanuelpgh.org
SUMMARY:Friday Afternoon Text Study
DESCRIPTION:Have you ever wondered what comes after the Torah? The Hebrew Bible\, also known as the TaNaCh\, consists of Torah (Ta)\, Prophets (Na)\, and Writings (Ch)\, telling the stories of the kings of Israel\, prophets and judges. Jews are often experts in the “Ta” but not the “NaCh” – until now! Join Rabbi Meyer for a 45-minute exploration of these “NaCh” texts on Zoom by clicking here.
URL:https://templeemanuelpgh.org/event/friday-afternoon-torah-study-8/2027-04-02/
CATEGORIES:Adult Education
END:VEVENT
BEGIN:VEVENT
DTSTART;TZID=America/New_York:20270403T090000
DTEND;TZID=America/New_York:20270403T100000
DTSTAMP:20260423T102957
CREATED:20241120T032844Z
LAST-MODIFIED:20241120T032844Z
UID:10004699-1806742800-1806746400@templeemanuelpgh.org
SUMMARY:Torah Study
DESCRIPTION:Saturday morning Torah Study with Rabbi Aaron Meyer will be offered in person at Temple and via Zoom video-conference. Zoom access can be found by clicking here.
URL:https://templeemanuelpgh.org/event/torah-study-14/2027-04-03/
CATEGORIES:Adult Education
END:VEVENT
BEGIN:VEVENT
DTSTART;TZID=America/New_York:20270409T130000
DTEND;TZID=America/New_York:20270409T134500
DTSTAMP:20260423T102957
CREATED:20241120T032034Z
LAST-MODIFIED:20251001T160749Z
UID:10004192-1807275600-1807278300@templeemanuelpgh.org
SUMMARY:Friday Afternoon Text Study
DESCRIPTION:Have you ever wondered what comes after the Torah? The Hebrew Bible\, also known as the TaNaCh\, consists of Torah (Ta)\, Prophets (Na)\, and Writings (Ch)\, telling the stories of the kings of Israel\, prophets and judges. Jews are often experts in the “Ta” but not the “NaCh” – until now! Join Rabbi Meyer for a 45-minute exploration of these “NaCh” texts on Zoom by clicking here.
URL:https://templeemanuelpgh.org/event/friday-afternoon-torah-study-8/2027-04-09/
CATEGORIES:Adult Education
END:VEVENT
BEGIN:VEVENT
DTSTART;TZID=America/New_York:20270410T090000
DTEND;TZID=America/New_York:20270410T100000
DTSTAMP:20260423T102957
CREATED:20241120T032844Z
LAST-MODIFIED:20241120T032844Z
UID:10004700-1807347600-1807351200@templeemanuelpgh.org
SUMMARY:Torah Study
DESCRIPTION:Saturday morning Torah Study with Rabbi Aaron Meyer will be offered in person at Temple and via Zoom video-conference. Zoom access can be found by clicking here.
URL:https://templeemanuelpgh.org/event/torah-study-14/2027-04-10/
CATEGORIES:Adult Education
END:VEVENT
BEGIN:VEVENT
DTSTART;TZID=America/New_York:20270416T130000
DTEND;TZID=America/New_York:20270416T134500
DTSTAMP:20260423T102957
CREATED:20241120T032034Z
LAST-MODIFIED:20251001T160749Z
UID:10004193-1807880400-1807883100@templeemanuelpgh.org
SUMMARY:Friday Afternoon Text Study
DESCRIPTION:Have you ever wondered what comes after the Torah? The Hebrew Bible\, also known as the TaNaCh\, consists of Torah (Ta)\, Prophets (Na)\, and Writings (Ch)\, telling the stories of the kings of Israel\, prophets and judges. Jews are often experts in the “Ta” but not the “NaCh” – until now! Join Rabbi Meyer for a 45-minute exploration of these “NaCh” texts on Zoom by clicking here.
URL:https://templeemanuelpgh.org/event/friday-afternoon-torah-study-8/2027-04-16/
CATEGORIES:Adult Education
END:VEVENT
BEGIN:VEVENT
DTSTART;TZID=America/New_York:20270417T090000
DTEND;TZID=America/New_York:20270417T100000
DTSTAMP:20260423T102957
CREATED:20241120T032844Z
LAST-MODIFIED:20241120T032844Z
UID:10004701-1807952400-1807956000@templeemanuelpgh.org
SUMMARY:Torah Study
DESCRIPTION:Saturday morning Torah Study with Rabbi Aaron Meyer will be offered in person at Temple and via Zoom video-conference. Zoom access can be found by clicking here.
URL:https://templeemanuelpgh.org/event/torah-study-14/2027-04-17/
CATEGORIES:Adult Education
END:VEVENT
BEGIN:VEVENT
DTSTART;TZID=America/New_York:20270423T130000
DTEND;TZID=America/New_York:20270423T134500
DTSTAMP:20260423T102957
CREATED:20241120T032034Z
LAST-MODIFIED:20251001T160749Z
UID:10004194-1808485200-1808487900@templeemanuelpgh.org
SUMMARY:Friday Afternoon Text Study
DESCRIPTION:Have you ever wondered what comes after the Torah? The Hebrew Bible\, also known as the TaNaCh\, consists of Torah (Ta)\, Prophets (Na)\, and Writings (Ch)\, telling the stories of the kings of Israel\, prophets and judges. Jews are often experts in the “Ta” but not the “NaCh” – until now! Join Rabbi Meyer for a 45-minute exploration of these “NaCh” texts on Zoom by clicking here.
URL:https://templeemanuelpgh.org/event/friday-afternoon-torah-study-8/2027-04-23/
CATEGORIES:Adult Education
END:VEVENT
BEGIN:VEVENT
DTSTART;TZID=America/New_York:20270424T090000
DTEND;TZID=America/New_York:20270424T100000
DTSTAMP:20260423T102957
CREATED:20241120T032844Z
LAST-MODIFIED:20241120T032844Z
UID:10004702-1808557200-1808560800@templeemanuelpgh.org
SUMMARY:Torah Study
DESCRIPTION:Saturday morning Torah Study with Rabbi Aaron Meyer will be offered in person at Temple and via Zoom video-conference. Zoom access can be found by clicking here.
URL:https://templeemanuelpgh.org/event/torah-study-14/2027-04-24/
CATEGORIES:Adult Education
END:VEVENT
BEGIN:VEVENT
DTSTART;TZID=America/New_York:20270430T130000
DTEND;TZID=America/New_York:20270430T134500
DTSTAMP:20260423T102957
CREATED:20241120T032034Z
LAST-MODIFIED:20251001T160749Z
UID:10004195-1809090000-1809092700@templeemanuelpgh.org
SUMMARY:Friday Afternoon Text Study
DESCRIPTION:Have you ever wondered what comes after the Torah? The Hebrew Bible\, also known as the TaNaCh\, consists of Torah (Ta)\, Prophets (Na)\, and Writings (Ch)\, telling the stories of the kings of Israel\, prophets and judges. Jews are often experts in the “Ta” but not the “NaCh” – until now! Join Rabbi Meyer for a 45-minute exploration of these “NaCh” texts on Zoom by clicking here.
URL:https://templeemanuelpgh.org/event/friday-afternoon-torah-study-8/2027-04-30/
CATEGORIES:Adult Education
END:VEVENT
BEGIN:VEVENT
DTSTART;TZID=America/New_York:20270501T090000
DTEND;TZID=America/New_York:20270501T100000
DTSTAMP:20260423T102957
CREATED:20241120T032844Z
LAST-MODIFIED:20241120T032844Z
UID:10004703-1809162000-1809165600@templeemanuelpgh.org
SUMMARY:Torah Study
DESCRIPTION:Saturday morning Torah Study with Rabbi Aaron Meyer will be offered in person at Temple and via Zoom video-conference. Zoom access can be found by clicking here.
URL:https://templeemanuelpgh.org/event/torah-study-14/2027-05-01/
CATEGORIES:Adult Education
END:VEVENT
BEGIN:VEVENT
DTSTART;TZID=America/New_York:20270507T130000
DTEND;TZID=America/New_York:20270507T134500
DTSTAMP:20260423T102957
CREATED:20241120T032034Z
LAST-MODIFIED:20251001T160749Z
UID:10004196-1809694800-1809697500@templeemanuelpgh.org
SUMMARY:Friday Afternoon Text Study
DESCRIPTION:Have you ever wondered what comes after the Torah? The Hebrew Bible\, also known as the TaNaCh\, consists of Torah (Ta)\, Prophets (Na)\, and Writings (Ch)\, telling the stories of the kings of Israel\, prophets and judges. Jews are often experts in the “Ta” but not the “NaCh” – until now! Join Rabbi Meyer for a 45-minute exploration of these “NaCh” texts on Zoom by clicking here.
URL:https://templeemanuelpgh.org/event/friday-afternoon-torah-study-8/2027-05-07/
CATEGORIES:Adult Education
END:VEVENT
BEGIN:VEVENT
DTSTART;TZID=America/New_York:20270508T090000
DTEND;TZID=America/New_York:20270508T100000
DTSTAMP:20260423T102957
CREATED:20241120T032844Z
LAST-MODIFIED:20241120T032844Z
UID:10004704-1809766800-1809770400@templeemanuelpgh.org
SUMMARY:Torah Study
DESCRIPTION:Saturday morning Torah Study with Rabbi Aaron Meyer will be offered in person at Temple and via Zoom video-conference. Zoom access can be found by clicking here.
URL:https://templeemanuelpgh.org/event/torah-study-14/2027-05-08/
CATEGORIES:Adult Education
END:VEVENT
BEGIN:VEVENT
DTSTART;TZID=America/New_York:20270514T130000
DTEND;TZID=America/New_York:20270514T134500
DTSTAMP:20260423T102957
CREATED:20241120T032034Z
LAST-MODIFIED:20251001T160749Z
UID:10004197-1810299600-1810302300@templeemanuelpgh.org
SUMMARY:Friday Afternoon Text Study
DESCRIPTION:Have you ever wondered what comes after the Torah? The Hebrew Bible\, also known as the TaNaCh\, consists of Torah (Ta)\, Prophets (Na)\, and Writings (Ch)\, telling the stories of the kings of Israel\, prophets and judges. Jews are often experts in the “Ta” but not the “NaCh” – until now! Join Rabbi Meyer for a 45-minute exploration of these “NaCh” texts on Zoom by clicking here.
URL:https://templeemanuelpgh.org/event/friday-afternoon-torah-study-8/2027-05-14/
CATEGORIES:Adult Education
END:VEVENT
BEGIN:VEVENT
DTSTART;TZID=America/New_York:20270515T090000
DTEND;TZID=America/New_York:20270515T100000
DTSTAMP:20260423T102957
CREATED:20241120T032844Z
LAST-MODIFIED:20241120T032844Z
UID:10004705-1810371600-1810375200@templeemanuelpgh.org
SUMMARY:Torah Study
DESCRIPTION:Saturday morning Torah Study with Rabbi Aaron Meyer will be offered in person at Temple and via Zoom video-conference. Zoom access can be found by clicking here.
URL:https://templeemanuelpgh.org/event/torah-study-14/2027-05-15/
CATEGORIES:Adult Education
END:VEVENT
BEGIN:VEVENT
DTSTART;TZID=America/New_York:20270521T130000
DTEND;TZID=America/New_York:20270521T134500
DTSTAMP:20260423T102957
CREATED:20241120T032034Z
LAST-MODIFIED:20251001T160749Z
UID:10004198-1810904400-1810907100@templeemanuelpgh.org
SUMMARY:Friday Afternoon Text Study
DESCRIPTION:Have you ever wondered what comes after the Torah? The Hebrew Bible\, also known as the TaNaCh\, consists of Torah (Ta)\, Prophets (Na)\, and Writings (Ch)\, telling the stories of the kings of Israel\, prophets and judges. Jews are often experts in the “Ta” but not the “NaCh” – until now! Join Rabbi Meyer for a 45-minute exploration of these “NaCh” texts on Zoom by clicking here.
URL:https://templeemanuelpgh.org/event/friday-afternoon-torah-study-8/2027-05-21/
CATEGORIES:Adult Education
END:VEVENT
BEGIN:VEVENT
DTSTART;TZID=America/New_York:20270522T090000
DTEND;TZID=America/New_York:20270522T100000
DTSTAMP:20260423T102957
CREATED:20241120T032844Z
LAST-MODIFIED:20241120T032844Z
UID:10004706-1810976400-1810980000@templeemanuelpgh.org
SUMMARY:Torah Study
DESCRIPTION:Saturday morning Torah Study with Rabbi Aaron Meyer will be offered in person at Temple and via Zoom video-conference. Zoom access can be found by clicking here.
URL:https://templeemanuelpgh.org/event/torah-study-14/2027-05-22/
CATEGORIES:Adult Education
END:VEVENT
BEGIN:VEVENT
DTSTART;TZID=America/New_York:20270528T130000
DTEND;TZID=America/New_York:20270528T134500
DTSTAMP:20260423T102957
CREATED:20241120T032034Z
LAST-MODIFIED:20251001T160749Z
UID:10004199-1811509200-1811511900@templeemanuelpgh.org
SUMMARY:Friday Afternoon Text Study
DESCRIPTION:Have you ever wondered what comes after the Torah? The Hebrew Bible\, also known as the TaNaCh\, consists of Torah (Ta)\, Prophets (Na)\, and Writings (Ch)\, telling the stories of the kings of Israel\, prophets and judges. Jews are often experts in the “Ta” but not the “NaCh” – until now! Join Rabbi Meyer for a 45-minute exploration of these “NaCh” texts on Zoom by clicking here.
URL:https://templeemanuelpgh.org/event/friday-afternoon-torah-study-8/2027-05-28/
CATEGORIES:Adult Education
END:VEVENT
BEGIN:VEVENT
DTSTART;TZID=America/New_York:20270529T090000
DTEND;TZID=America/New_York:20270529T100000
DTSTAMP:20260423T102957
CREATED:20241120T032844Z
LAST-MODIFIED:20241120T032844Z
UID:10004707-1811581200-1811584800@templeemanuelpgh.org
SUMMARY:Torah Study
DESCRIPTION:Saturday morning Torah Study with Rabbi Aaron Meyer will be offered in person at Temple and via Zoom video-conference. Zoom access can be found by clicking here.
URL:https://templeemanuelpgh.org/event/torah-study-14/2027-05-29/
CATEGORIES:Adult Education
END:VEVENT
BEGIN:VEVENT
DTSTART;TZID=America/New_York:20270604T130000
DTEND;TZID=America/New_York:20270604T134500
DTSTAMP:20260423T102957
CREATED:20241120T032034Z
LAST-MODIFIED:20251001T160749Z
UID:10004200-1812114000-1812116700@templeemanuelpgh.org
SUMMARY:Friday Afternoon Text Study
DESCRIPTION:Have you ever wondered what comes after the Torah? The Hebrew Bible\, also known as the TaNaCh\, consists of Torah (Ta)\, Prophets (Na)\, and Writings (Ch)\, telling the stories of the kings of Israel\, prophets and judges. Jews are often experts in the “Ta” but not the “NaCh” – until now! Join Rabbi Meyer for a 45-minute exploration of these “NaCh” texts on Zoom by clicking here.
URL:https://templeemanuelpgh.org/event/friday-afternoon-torah-study-8/2027-06-04/
CATEGORIES:Adult Education
END:VEVENT
BEGIN:VEVENT
DTSTART;TZID=America/New_York:20270605T090000
DTEND;TZID=America/New_York:20270605T100000
DTSTAMP:20260423T102957
CREATED:20241120T032844Z
LAST-MODIFIED:20241120T032844Z
UID:10004708-1812186000-1812189600@templeemanuelpgh.org
SUMMARY:Torah Study
DESCRIPTION:Saturday morning Torah Study with Rabbi Aaron Meyer will be offered in person at Temple and via Zoom video-conference. Zoom access can be found by clicking here.
URL:https://templeemanuelpgh.org/event/torah-study-14/2027-06-05/
CATEGORIES:Adult Education
END:VEVENT
BEGIN:VEVENT
DTSTART;TZID=America/New_York:20270611T130000
DTEND;TZID=America/New_York:20270611T134500
DTSTAMP:20260423T102957
CREATED:20241120T032034Z
LAST-MODIFIED:20251001T160749Z
UID:10004201-1812718800-1812721500@templeemanuelpgh.org
SUMMARY:Friday Afternoon Text Study
DESCRIPTION:Have you ever wondered what comes after the Torah? The Hebrew Bible\, also known as the TaNaCh\, consists of Torah (Ta)\, Prophets (Na)\, and Writings (Ch)\, telling the stories of the kings of Israel\, prophets and judges. Jews are often experts in the “Ta” but not the “NaCh” – until now! Join Rabbi Meyer for a 45-minute exploration of these “NaCh” texts on Zoom by clicking here.
URL:https://templeemanuelpgh.org/event/friday-afternoon-torah-study-8/2027-06-11/
CATEGORIES:Adult Education
END:VEVENT
BEGIN:VEVENT
DTSTART;TZID=America/New_York:20270612T090000
DTEND;TZID=America/New_York:20270612T100000
DTSTAMP:20260423T102957
CREATED:20241120T032844Z
LAST-MODIFIED:20241120T032844Z
UID:10004709-1812790800-1812794400@templeemanuelpgh.org
SUMMARY:Torah Study
DESCRIPTION:Saturday morning Torah Study with Rabbi Aaron Meyer will be offered in person at Temple and via Zoom video-conference. Zoom access can be found by clicking here.
URL:https://templeemanuelpgh.org/event/torah-study-14/2027-06-12/
CATEGORIES:Adult Education
END:VEVENT
BEGIN:VEVENT
DTSTART;TZID=America/New_York:20270618T130000
DTEND;TZID=America/New_York:20270618T134500
DTSTAMP:20260423T102957
CREATED:20241120T032034Z
LAST-MODIFIED:20251001T160749Z
UID:10004202-1813323600-1813326300@templeemanuelpgh.org
SUMMARY:Friday Afternoon Text Study
DESCRIPTION:Have you ever wondered what comes after the Torah? The Hebrew Bible\, also known as the TaNaCh\, consists of Torah (Ta)\, Prophets (Na)\, and Writings (Ch)\, telling the stories of the kings of Israel\, prophets and judges. Jews are often experts in the “Ta” but not the “NaCh” – until now! Join Rabbi Meyer for a 45-minute exploration of these “NaCh” texts on Zoom by clicking here.
URL:https://templeemanuelpgh.org/event/friday-afternoon-torah-study-8/2027-06-18/
CATEGORIES:Adult Education
END:VEVENT
BEGIN:VEVENT
DTSTART;TZID=America/New_York:20270619T090000
DTEND;TZID=America/New_York:20270619T100000
DTSTAMP:20260423T102957
CREATED:20241120T032844Z
LAST-MODIFIED:20241120T032844Z
UID:10004710-1813395600-1813399200@templeemanuelpgh.org
SUMMARY:Torah Study
DESCRIPTION:Saturday morning Torah Study with Rabbi Aaron Meyer will be offered in person at Temple and via Zoom video-conference. Zoom access can be found by clicking here.
URL:https://templeemanuelpgh.org/event/torah-study-14/2027-06-19/
CATEGORIES:Adult Education
END:VEVENT
BEGIN:VEVENT
DTSTART;TZID=America/New_York:20270625T130000
DTEND;TZID=America/New_York:20270625T134500
DTSTAMP:20260423T102957
CREATED:20241120T032034Z
LAST-MODIFIED:20251001T160749Z
UID:10004203-1813928400-1813931100@templeemanuelpgh.org
SUMMARY:Friday Afternoon Text Study
DESCRIPTION:Have you ever wondered what comes after the Torah? The Hebrew Bible\, also known as the TaNaCh\, consists of Torah (Ta)\, Prophets (Na)\, and Writings (Ch)\, telling the stories of the kings of Israel\, prophets and judges. Jews are often experts in the “Ta” but not the “NaCh” – until now! Join Rabbi Meyer for a 45-minute exploration of these “NaCh” texts on Zoom by clicking here.
URL:https://templeemanuelpgh.org/event/friday-afternoon-torah-study-8/2027-06-25/
CATEGORIES:Adult Education
END:VEVENT
BEGIN:VEVENT
DTSTART;TZID=America/New_York:20270626T090000
DTEND;TZID=America/New_York:20270626T100000
DTSTAMP:20260423T102957
CREATED:20241120T032844Z
LAST-MODIFIED:20241120T032844Z
UID:10004711-1814000400-1814004000@templeemanuelpgh.org
SUMMARY:Torah Study
DESCRIPTION:Saturday morning Torah Study with Rabbi Aaron Meyer will be offered in person at Temple and via Zoom video-conference. Zoom access can be found by clicking here.
URL:https://templeemanuelpgh.org/event/torah-study-14/2027-06-26/
CATEGORIES:Adult Education
END:VEVENT
BEGIN:VEVENT
DTSTART;TZID=America/New_York:20270702T130000
DTEND;TZID=America/New_York:20270702T134500
DTSTAMP:20260423T102957
CREATED:20241120T032034Z
LAST-MODIFIED:20251001T160749Z
UID:10004204-1814533200-1814535900@templeemanuelpgh.org
SUMMARY:Friday Afternoon Text Study
DESCRIPTION:Have you ever wondered what comes after the Torah? The Hebrew Bible\, also known as the TaNaCh\, consists of Torah (Ta)\, Prophets (Na)\, and Writings (Ch)\, telling the stories of the kings of Israel\, prophets and judges. Jews are often experts in the “Ta” but not the “NaCh” – until now! Join Rabbi Meyer for a 45-minute exploration of these “NaCh” texts on Zoom by clicking here.
URL:https://templeemanuelpgh.org/event/friday-afternoon-torah-study-8/2027-07-02/
CATEGORIES:Adult Education
END:VEVENT
BEGIN:VEVENT
DTSTART;TZID=America/New_York:20270703T090000
DTEND;TZID=America/New_York:20270703T100000
DTSTAMP:20260423T102957
CREATED:20241120T032844Z
LAST-MODIFIED:20241120T032844Z
UID:10004712-1814605200-1814608800@templeemanuelpgh.org
SUMMARY:Torah Study
DESCRIPTION:Saturday morning Torah Study with Rabbi Aaron Meyer will be offered in person at Temple and via Zoom video-conference. Zoom access can be found by clicking here.
URL:https://templeemanuelpgh.org/event/torah-study-14/2027-07-03/
CATEGORIES:Adult Education
END:VEVENT
BEGIN:VEVENT
DTSTART;TZID=America/New_York:20270709T130000
DTEND;TZID=America/New_York:20270709T134500
DTSTAMP:20260423T102957
CREATED:20241120T032034Z
LAST-MODIFIED:20251001T160749Z
UID:10004205-1815138000-1815140700@templeemanuelpgh.org
SUMMARY:Friday Afternoon Text Study
DESCRIPTION:Have you ever wondered what comes after the Torah? The Hebrew Bible\, also known as the TaNaCh\, consists of Torah (Ta)\, Prophets (Na)\, and Writings (Ch)\, telling the stories of the kings of Israel\, prophets and judges. Jews are often experts in the “Ta” but not the “NaCh” – until now! Join Rabbi Meyer for a 45-minute exploration of these “NaCh” texts on Zoom by clicking here.
URL:https://templeemanuelpgh.org/event/friday-afternoon-torah-study-8/2027-07-09/
CATEGORIES:Adult Education
END:VEVENT
BEGIN:VEVENT
DTSTART;TZID=America/New_York:20270710T090000
DTEND;TZID=America/New_York:20270710T100000
DTSTAMP:20260423T102957
CREATED:20241120T032844Z
LAST-MODIFIED:20241120T032844Z
UID:10004713-1815210000-1815213600@templeemanuelpgh.org
SUMMARY:Torah Study
DESCRIPTION:Saturday morning Torah Study with Rabbi Aaron Meyer will be offered in person at Temple and via Zoom video-conference. Zoom access can be found by clicking here.
URL:https://templeemanuelpgh.org/event/torah-study-14/2027-07-10/
CATEGORIES:Adult Education
END:VEVENT
END:VCALENDAR