BEGIN:VCALENDAR
VERSION:2.0
PRODID:-//Temple Emanuel - ECPv6.15.20//NONSGML v1.0//EN
CALSCALE:GREGORIAN
METHOD:PUBLISH
X-WR-CALNAME:Temple Emanuel
X-ORIGINAL-URL:https://templeemanuelpgh.org
X-WR-CALDESC:Events for Temple Emanuel
REFRESH-INTERVAL;VALUE=DURATION:PT1H
X-Robots-Tag:noindex
X-PUBLISHED-TTL:PT1H
BEGIN:VTIMEZONE
TZID:America/New_York
BEGIN:DAYLIGHT
TZOFFSETFROM:-0500
TZOFFSETTO:-0400
TZNAME:EDT
DTSTART:20250309T070000
END:DAYLIGHT
BEGIN:STANDARD
TZOFFSETFROM:-0400
TZOFFSETTO:-0500
TZNAME:EST
DTSTART:20251102T060000
END:STANDARD
BEGIN:DAYLIGHT
TZOFFSETFROM:-0500
TZOFFSETTO:-0400
TZNAME:EDT
DTSTART:20260308T070000
END:DAYLIGHT
BEGIN:STANDARD
TZOFFSETFROM:-0400
TZOFFSETTO:-0500
TZNAME:EST
DTSTART:20261101T060000
END:STANDARD
BEGIN:DAYLIGHT
TZOFFSETFROM:-0500
TZOFFSETTO:-0400
TZNAME:EDT
DTSTART:20270314T070000
END:DAYLIGHT
BEGIN:STANDARD
TZOFFSETFROM:-0400
TZOFFSETTO:-0500
TZNAME:EST
DTSTART:20271107T060000
END:STANDARD
END:VTIMEZONE
BEGIN:VEVENT
DTSTART;TZID=America/New_York:20260331T093000
DTEND;TZID=America/New_York:20260331T133000
DTSTAMP:20260422T090101
CREATED:20260302T174935Z
LAST-MODIFIED:20260302T174935Z
UID:10006017-1774949400-1774963800@templeemanuelpgh.org
SUMMARY:Kids/Teens and Technology Program
DESCRIPTION:Kids/Teens and Tech is a prevention program developed to assist youth in navigating online life. The program which will be led by University of Pittsburgh MAPS (Maximizing all Potentials) staff will focus on educating youth on the following objectives; Becoming Positive Digital Citizens\, understanding the correlation between gaming and gambling\, knowing the warning signs of problem behaviors surrounding the use of technology\, all while encouraging critical thinking and problem solving skills in a fun and engaging environment. \nPlease contact Steph McFerron for more information about specific times\, location\, and how to RSVP.
URL:https://templeemanuelpgh.org/event/kids-teens-and-technology-program/
END:VEVENT
END:VCALENDAR