BEGIN:VCALENDAR
VERSION:2.0
PRODID:-//Temple Emanuel - ECPv6.15.20//NONSGML v1.0//EN
CALSCALE:GREGORIAN
METHOD:PUBLISH
X-WR-CALNAME:Temple Emanuel
X-ORIGINAL-URL:https://templeemanuelpgh.org
X-WR-CALDESC:Events for Temple Emanuel
REFRESH-INTERVAL;VALUE=DURATION:PT1H
X-Robots-Tag:noindex
X-PUBLISHED-TTL:PT1H
BEGIN:VTIMEZONE
TZID:America/New_York
BEGIN:DAYLIGHT
TZOFFSETFROM:-0500
TZOFFSETTO:-0400
TZNAME:EDT
DTSTART:20240310T070000
END:DAYLIGHT
BEGIN:STANDARD
TZOFFSETFROM:-0400
TZOFFSETTO:-0500
TZNAME:EST
DTSTART:20241103T060000
END:STANDARD
BEGIN:DAYLIGHT
TZOFFSETFROM:-0500
TZOFFSETTO:-0400
TZNAME:EDT
DTSTART:20250309T070000
END:DAYLIGHT
BEGIN:STANDARD
TZOFFSETFROM:-0400
TZOFFSETTO:-0500
TZNAME:EST
DTSTART:20251102T060000
END:STANDARD
BEGIN:DAYLIGHT
TZOFFSETFROM:-0500
TZOFFSETTO:-0400
TZNAME:EDT
DTSTART:20260308T070000
END:DAYLIGHT
BEGIN:STANDARD
TZOFFSETFROM:-0400
TZOFFSETTO:-0500
TZNAME:EST
DTSTART:20261101T060000
END:STANDARD
END:VTIMEZONE
BEGIN:VEVENT
DTSTART;TZID=America/New_York:20251002T090000
DTEND;TZID=America/New_York:20251002T100000
DTSTAMP:20260422T163748
CREATED:20250829T151912Z
LAST-MODIFIED:20250829T151912Z
UID:10005811-1759395600-1759399200@templeemanuelpgh.org
SUMMARY:Yom Kippur Family Focused Service
DESCRIPTION:The essence of the High Holy Days\, including Torah readings\, shofar service (when appropriate)\, and quintessential prayers of the season\, are offered in an inclusive way for families with children under the age of Hebrew school (up to 2nd grade) and others interested in a less formal but meaningful worship experience. These services will last approximately 50 minutes. \nPlease bring your High Holy Days passes. If you need a guest pass\, please contact the Temple Emanuel office at templeemanuel@templeemanuelpgh.org.
URL:https://templeemanuelpgh.org/event/yom-kippur-family-focused-service-4/
CATEGORIES:Holidays,Worship
END:VEVENT
BEGIN:VEVENT
DTSTART;TZID=America/New_York:20251002T103000
DTEND;TZID=America/New_York:20251002T123000
DTSTAMP:20260422T163748
CREATED:20250829T152012Z
LAST-MODIFIED:20250829T152012Z
UID:10005812-1759401000-1759408200@templeemanuelpgh.org
SUMMARY:Yom Kippur Traditional Morning Service
DESCRIPTION:Rabbi Aaron Meyer is joined by Cantor Kalix Jacobson and soloists Rebecca Closson and Jacob Shinder for our traditional sanctuary services. Familiar melodies of the High Holy Days accompany the inspiring communal prayers of Jewish tradition in these full worship experiences. \nPlease bring your High Holy Days passes. If you need a guest pass\, please contact the Temple Emanuel office at templeemanuel@templeemanuelpgh.org.
URL:https://templeemanuelpgh.org/event/yom-kippur-traditional-morning-service/
CATEGORIES:Holidays,Worship
END:VEVENT
BEGIN:VEVENT
DTSTART;TZID=America/New_York:20251002T130000
DTEND;TZID=America/New_York:20251002T150000
DTSTAMP:20260422T163748
CREATED:20250829T152410Z
LAST-MODIFIED:20250829T152410Z
UID:10005813-1759410000-1759417200@templeemanuelpgh.org
SUMMARY:Yom Kippur Afternoon Study Sessions
DESCRIPTION:
URL:https://templeemanuelpgh.org/event/yom-kippur-afternoon-study-sessions-3/
CATEGORIES:Holidays
END:VEVENT
BEGIN:VEVENT
DTSTART;TZID=America/New_York:20251002T150000
DTEND;TZID=America/New_York:20251002T180000
DTSTAMP:20260422T163748
CREATED:20250829T152612Z
LAST-MODIFIED:20250829T152612Z
UID:10005814-1759417200-1759428000@templeemanuelpgh.org
SUMMARY:Yom Kippur Afternoon/Yizkor/Neilah Services
DESCRIPTION:During the Yizkor service\, we remember the loved ones who have gone before us\, those upon whose shoulders we stand. In addition to reciting the traditional memorial prayers\, we will continue to hold space in our hearts for those the world over whose lives were cut short in acts of violence and disease. \nRabbi Aaron Meyer is joined by Cantor Kalix Jacobson and soloists Rebecca Closson and Jacob Shinder for our traditional sanctuary services. Familiar melodies of the High Holy Days accompany the inspiring communal prayers of Jewish tradition in these full worship experiences. \nPlease bring your High Holy Days passes. If you need a guest pass\, please contact the Temple Emanuel office at templeemanuel@templeemanuelpgh.org.
URL:https://templeemanuelpgh.org/event/yom-kippur-afternoon-yizkor-neilah-services/
CATEGORIES:Holidays,Worship
END:VEVENT
END:VCALENDAR