BEGIN:VCALENDAR
VERSION:2.0
PRODID:-//Temple Emanuel - ECPv6.15.20//NONSGML v1.0//EN
CALSCALE:GREGORIAN
METHOD:PUBLISH
X-ORIGINAL-URL:https://templeemanuelpgh.org
X-WR-CALDESC:Events for Temple Emanuel
REFRESH-INTERVAL;VALUE=DURATION:PT1H
X-Robots-Tag:noindex
X-PUBLISHED-TTL:PT1H
BEGIN:VTIMEZONE
TZID:America/New_York
BEGIN:DAYLIGHT
TZOFFSETFROM:-0500
TZOFFSETTO:-0400
TZNAME:EDT
DTSTART:20240310T070000
END:DAYLIGHT
BEGIN:STANDARD
TZOFFSETFROM:-0400
TZOFFSETTO:-0500
TZNAME:EST
DTSTART:20241103T060000
END:STANDARD
BEGIN:DAYLIGHT
TZOFFSETFROM:-0500
TZOFFSETTO:-0400
TZNAME:EDT
DTSTART:20250309T070000
END:DAYLIGHT
BEGIN:STANDARD
TZOFFSETFROM:-0400
TZOFFSETTO:-0500
TZNAME:EST
DTSTART:20251102T060000
END:STANDARD
BEGIN:DAYLIGHT
TZOFFSETFROM:-0500
TZOFFSETTO:-0400
TZNAME:EDT
DTSTART:20260308T070000
END:DAYLIGHT
BEGIN:STANDARD
TZOFFSETFROM:-0400
TZOFFSETTO:-0500
TZNAME:EST
DTSTART:20261101T060000
END:STANDARD
END:VTIMEZONE
BEGIN:VEVENT
DTSTART;TZID=America/New_York:20250921T093000
DTEND;TZID=America/New_York:20250921T101500
DTSTAMP:20260422T144441
CREATED:20241120T033655Z
LAST-MODIFIED:20260412T131916Z
UID:10005128-1758447000-1758449700@templeemanuelpgh.org
SUMMARY:Sunday Morning Minyan
DESCRIPTION:All are welcome to join this casual\, brief\, lay-led service. Join in person in the Beit HaT’filah or online via Zoom. This is a great opportunity to become familiar with the service and with Hebrew\, to meet other members\, and to say Kaddish.
URL:https://templeemanuelpgh.org/event/sunday-morning-minyan-12/2025-09-21/
CATEGORIES:Worship
END:VEVENT
BEGIN:VEVENT
DTSTART;TZID=America/New_York:20250921T133000
DTEND;TZID=America/New_York:20250921T153000
DTSTAMP:20260422T144441
CREATED:20250829T145529Z
LAST-MODIFIED:20250829T145529Z
UID:10005805-1758461400-1758468600@templeemanuelpgh.org
SUMMARY:Volunteer Opportunity: Fresh Start Crew
DESCRIPTION:Calling all volunteers to help tidy up Temple Emanuel before Rosh Hashanah! RSVP to Sarah at smangan@templeemanuelpgh.org.
URL:https://templeemanuelpgh.org/event/volunteer-opportunity-fresh-start-crew/
CATEGORIES:Social Action
ATTACH;FMTTYPE=image/png:https://templeemanuelpgh.org/wp-content/uploads/2025/08/Fresh-start-Crew.png
END:VEVENT
END:VCALENDAR