BEGIN:VCALENDAR
VERSION:2.0
PRODID:-//Temple Emanuel - ECPv6.15.20//NONSGML v1.0//EN
CALSCALE:GREGORIAN
METHOD:PUBLISH
X-ORIGINAL-URL:https://templeemanuelpgh.org
X-WR-CALDESC:Events for Temple Emanuel
REFRESH-INTERVAL;VALUE=DURATION:PT1H
X-Robots-Tag:noindex
X-PUBLISHED-TTL:PT1H
BEGIN:VTIMEZONE
TZID:America/New_York
BEGIN:DAYLIGHT
TZOFFSETFROM:-0500
TZOFFSETTO:-0400
TZNAME:EDT
DTSTART:20240310T070000
END:DAYLIGHT
BEGIN:STANDARD
TZOFFSETFROM:-0400
TZOFFSETTO:-0500
TZNAME:EST
DTSTART:20241103T060000
END:STANDARD
BEGIN:DAYLIGHT
TZOFFSETFROM:-0500
TZOFFSETTO:-0400
TZNAME:EDT
DTSTART:20250309T070000
END:DAYLIGHT
BEGIN:STANDARD
TZOFFSETFROM:-0400
TZOFFSETTO:-0500
TZNAME:EST
DTSTART:20251102T060000
END:STANDARD
BEGIN:DAYLIGHT
TZOFFSETFROM:-0500
TZOFFSETTO:-0400
TZNAME:EDT
DTSTART:20260308T070000
END:DAYLIGHT
BEGIN:STANDARD
TZOFFSETFROM:-0400
TZOFFSETTO:-0500
TZNAME:EST
DTSTART:20261101T060000
END:STANDARD
END:VTIMEZONE
BEGIN:VEVENT
DTSTART;TZID=America/New_York:20250704T130000
DTEND;TZID=America/New_York:20250704T134500
DTSTAMP:20260419T091439
CREATED:20241120T032034Z
LAST-MODIFIED:20251001T160749Z
UID:10004100-1751634000-1751636700@templeemanuelpgh.org
SUMMARY:Friday Afternoon Text Study
DESCRIPTION:Have you ever wondered what comes after the Torah? The Hebrew Bible\, also known as the TaNaCh\, consists of Torah (Ta)\, Prophets (Na)\, and Writings (Ch)\, telling the stories of the kings of Israel\, prophets and judges. Jews are often experts in the “Ta” but not the “NaCh” – until now! Join Rabbi Meyer for a 45-minute exploration of these “NaCh” texts on Zoom by clicking here.
URL:https://templeemanuelpgh.org/event/friday-afternoon-torah-study-8/2025-07-04/
CATEGORIES:Adult Education
END:VEVENT
END:VCALENDAR